BEGIN:VCALENDAR
VERSION:2.0
PRODID:-//ChamberMaster//Event Calendar 2.0//EN
METHOD:PUBLISH
X-PUBLISHED-TTL:P3D
REFRESH-INTERVAL:P3D
CALSCALE:GREGORIAN
BEGIN:VEVENT
DTSTART:20230609T213000Z
DTEND:20230610T003000Z
X-MICROSOFT-CDO-ALLDAYEVENT:FALSE
SUMMARY:Friday Night Live - Feat. iNCogNiTo
DESCRIPTION:Enjoy live music by iNCogNiTo and tasty food available for purchase from West Coast Wanderer!\n\nMusic is complimentary and open to the public. Feel free to bring a lawn chair!\n\nNO outside alcohol\, food\, coolers\, balls\, scooters\, or bicycles are permitted. Rain or Shine.\n\nDon't forget to check out our upcoming calendar.\n\nHave questions? Check out our FAQs page
X-ALT-DESC;FMTTYPE=text/html:<div class="xdj266r x11i5rnm xat24cr x1mh8g0r x1vvkbs" style="margin: 0px\; overflow-wrap: break-word\; font-family: &quot\;Segoe UI Historic&quot\;\, &quot\;Segoe UI&quot\;\, Helvetica\, Arial\, sans-serif\; color: rgb(5\, 5\, 5)\; font-size: 15px\;"><span style="font-size:16px\;"><span style="font-family:tahoma\;">Enjoy live music by iNCogNiTo and tasty food available for purchase from West Coast Wanderer!</span></span></div>\n\n<div class="x11i5rnm xat24cr x1mh8g0r x1vvkbs xtlvy1s" style="margin: 0.5em 0px 0px\; overflow-wrap: break-word\; font-family: &quot\;Segoe UI Historic&quot\;\, &quot\;Segoe UI&quot\;\, Helvetica\, Arial\, sans-serif\; color: rgb(5\, 5\, 5)\; font-size: 15px\;"><span style="font-size:16px\;"><span style="font-family:tahoma\;">Music is complimentary and open to the public. Feel free to bring a lawn chair!<br />\nNO outside alcohol\, food\, coolers\, balls\, scooters\, or bicycles are permitted. Rain or Shine.</span></span></div>\n\n<div class="x11i5rnm xat24cr x1mh8g0r x1vvkbs xtlvy1s" style="margin: 0.5em 0px 0px\; overflow-wrap: break-word\; font-family: &quot\;Segoe UI Historic&quot\;\, &quot\;Segoe UI&quot\;\, Helvetica\, Arial\, sans-serif\; color: rgb(5\, 5\, 5)\; font-size: 15px\;"><span style="font-size:16px\;"><span style="font-family:tahoma\;">Don&rsquo\;t forget to check out our upcoming calendar.</span></span></div>\n\n<div class="x11i5rnm xat24cr x1mh8g0r x1vvkbs xtlvy1s" style="margin: 0.5em 0px 0px\; overflow-wrap: break-word\; font-family: &quot\;Segoe UI Historic&quot\;\, &quot\;Segoe UI&quot\;\, Helvetica\, Arial\, sans-serif\; color: rgb(5\, 5\, 5)\; font-size: 15px\;"><span style="font-size:16px\;"><span style="font-family:tahoma\;">Have questions? Check out our FAQs page</span></span></div>\n
LOCATION:RayLen Vineyards & Winery
UID:e.2378.22982
SEQUENCE:3
DTSTAMP:20260422T053811Z
URL:http://business.daviechamber.com/events/details/friday-night-live-feat-incognito-22982
END:VEVENT

END:VCALENDAR
