BEGIN:VCALENDAR
VERSION:2.0
PRODID:-//ChamberMaster//Event Calendar 2.0//EN
METHOD:PUBLISH
X-PUBLISHED-TTL:P3D
REFRESH-INTERVAL:P3D
CALSCALE:GREGORIAN
BEGIN:VEVENT
DTSTART:20181214T180000Z
DTEND:20181214T200000Z
X-MICROSOFT-CDO-ALLDAYEVENT:FALSE
SUMMARY:Line Dance Workshop
DESCRIPTION:Once a quarter Brenda Holcomb comes to enhance the skills taught each week by our volunteer instructors. This class is open to anyone - beginner or experienced line dancer. You do not need to be a participant of a current line dancing class in order to attend.
X-ALT-DESC;FMTTYPE=text/html:Once a quarter Brenda Holcomb comes to enhance the skills taught each week by our volunteer instructors. This class is open to anyone - beginner or experienced line dancer. You do not need to be a participant of a current line dancing class in order to attend.
LOCATION:Bobby H. Knight Senior Services Building 278 Meroney Street Mocksville\, NC 27028
UID:e.2378.14930
SEQUENCE:3
DTSTAMP:20260421T082037Z
URL:http://business.daviechamber.com/events/details/line-dance-workshop-12-14-2018-14930
END:VEVENT

END:VCALENDAR
