BEGIN:VCALENDAR
VERSION:2.0
PRODID:-//ChamberMaster//Event Calendar 2.0//EN
METHOD:PUBLISH
X-PUBLISHED-TTL:P3D
REFRESH-INTERVAL:P3D
CALSCALE:GREGORIAN
BEGIN:VEVENT
DTSTART:20180814T213000Z
DTEND:20180814T233000Z
X-MICROSOFT-CDO-ALLDAYEVENT:FALSE
SUMMARY:Memory Cafe
DESCRIPTION:A memory caf  is a social gathering for persons with Alzheimer's or other dementia and their caregivers. The caf  is free and offers an ice cream sundae bar and fun movement activities to music. The caf  is beneficial not only for those with memory loss\, but for the caregivers as well. A family member or friend that serves as a caregiver MUST accompany the guest. This includes spouses\, children\, friends or acquaintances. We respectfully request paid caregivers not attend in lieu of friends or family
X-ALT-DESC;FMTTYPE=text/html:A memory caf&eacute\; is a social gathering for persons with Alzheimer&rsquo\;s or other dementia and their caregivers. The caf&eacute\; is free and offers an ice cream sundae bar and fun movement activities to music. The caf&eacute\; is beneficial not only for those with memory loss\, but for the caregivers as well. A family member or friend that serves as a caregiver MUST accompany the guest. This includes spouses\, children\, friends or acquaintances. We respectfully request paid caregivers not attend in lieu of friends or family
LOCATION:Bobby H. Knight Senior Services Building 278 Meroney Street Mocksville\, NC 27028
UID:e.2378.14420
SEQUENCE:3
DTSTAMP:20260421T002541Z
URL:http://business.daviechamber.com/events/details/memory-cafe-08-14-2018-14420
END:VEVENT

END:VCALENDAR
