BEGIN:VCALENDAR
VERSION:2.0
PRODID:-//ChamberMaster//Event Calendar 2.0//EN
METHOD:PUBLISH
X-PUBLISHED-TTL:P3D
REFRESH-INTERVAL:P3D
CALSCALE:GREGORIAN
BEGIN:VEVENT
DTSTART:20230601T223000Z
DTEND:20230602T013000Z
X-MICROSOFT-CDO-ALLDAYEVENT:FALSE
SUMMARY:SoundKraft LIVE at O'Callahans!
DESCRIPTION:SoundKraft brings their hard hitting renditions of Rock's deep cuts from The Beatles\, Dave Matthews\, Matchbox 20\, Zeppelin\, Stone Temple Pilots\, Pearl Jam\, Chris Stapleton\, Aaron Lewis and many more!
X-ALT-DESC;FMTTYPE=text/html:<span style="font-size:16px\;"><span style="font-family:tahoma\;">SoundKraft brings their hard hitting renditions of Rock&#39\;s deep cuts from The Beatles\, Dave Matthews\, Matchbox 20\, Zeppelin\, Stone Temple Pilots\, Pearl Jam\, Chris Stapleton\, Aaron Lewis and many more!</span></span>
LOCATION:O'Callahans
UID:e.2378.22959
SEQUENCE:3
DTSTAMP:20260422T063915Z
URL:http://business.daviechamber.com/events/details/soundkraft-live-at-o-callahans-22959
END:VEVENT

END:VCALENDAR
