BEGIN:VCALENDAR
VERSION:2.0
PRODID:-//ChamberMaster//Event Calendar 2.0//EN
METHOD:PUBLISH
X-PUBLISHED-TTL:P3D
REFRESH-INTERVAL:P3D
CALSCALE:GREGORIAN
BEGIN:VEVENT
DTSTART:20230304T150000Z
DTEND:20230304T210000Z
X-MICROSOFT-CDO-ALLDAYEVENT:FALSE
SUMMARY:10 Year Birthday Celebration - Peace of Mind Consignment
DESCRIPTION:Come help us celebrate our 10th birthday!! We will have in-store Doorbuster deals\, swag bags with every purchase\, free food and more!!
X-ALT-DESC;FMTTYPE=text/html:<span style="color: rgb(5\, 5\, 5)\; font-family: &quot\;Segoe UI Historic&quot\;\, &quot\;Segoe UI&quot\;\, Helvetica\, Arial\, sans-serif\; font-size: 15px\;">Come help us celebrate our 10th birthday!! We will have in-store Doorbuster deals\, swag bags with every purchase\, free food and more!!</span>
LOCATION:Peace of Mind Consignment
UID:e.2378.22772
SEQUENCE:3
DTSTAMP:20260424T102958Z
URL:https://business.daviechamber.com/events/details/10-year-birthday-celebration-peace-of-mind-consignment-22772
END:VEVENT

END:VCALENDAR
