BEGIN:VCALENDAR
VERSION:2.0
PRODID:-//ChamberMaster//Event Calendar 2.0//EN
METHOD:PUBLISH
X-PUBLISHED-TTL:P3D
REFRESH-INTERVAL:P3D
CALSCALE:GREGORIAN
BEGIN:VEVENT
DTSTART:20151017T150000Z
DTEND:20151017T180000Z
X-MICROSOFT-CDO-ALLDAYEVENT:FALSE
SUMMARY:13th Annual Catfish Fry
DESCRIPTION:RiverPark is proud to announce the 13th Annual Catfish Fry. Lots of Catfish\, slaw\, fries\, hush puppies\, drink & dessert "The best catfish you ever ate".  All proceeds go to keep RiverPark open\, clean & safe!
X-ALT-DESC;FMTTYPE=text/html:RiverPark is proud to announce the 13th Annual Catfish Fry. Lots of Catfish\, slaw\, fries\, hush puppies\, drink &amp\; dessert &quot\;The best catfish you ever ate&quot\;.&nbsp\; All proceeds go to keep RiverPark open\, clean &amp\; safe!
LOCATION:RiverPark at Cooleemee Falls "The Bullhole"
UID:e.2378.4090
SEQUENCE:3
DTSTAMP:20260423T112031Z
URL:https://business.daviechamber.com/events/details/13th-annual-catfish-fry-10-17-2015-4090
END:VEVENT

END:VCALENDAR
