BEGIN:VCALENDAR
VERSION:2.0
PRODID:-//ChamberMaster//Event Calendar 2.0//EN
METHOD:PUBLISH
X-PUBLISHED-TTL:P3D
REFRESH-INTERVAL:P3D
CALSCALE:GREGORIAN
BEGIN:VEVENT
DTSTART:20180314T213000Z
DTEND:20180315T030000Z
X-MICROSOFT-CDO-ALLDAYEVENT:FALSE
SUMMARY:16th Annual Chili Cookoff - First United Methodist Church
DESCRIPTION:ALL are invited to the 16th Annual Chili Cook-Off hosted by First United Methodist Church. Enter you favorite recipe or enjoy a variety of chili including hot\, mild\, vegetarian\, chicken\, and more! Salads\, desserts and drinks will be provided. All proceeds will benefit A Storehouse for Jesus.\n\n\n\nCall Alice Hanes for more information 336.751.2237
X-ALT-DESC;FMTTYPE=text/html:ALL are invited to the 16th Annual Chili Cook-Off hosted by First United Methodist Church. Enter you favorite recipe or enjoy a variety of chili including hot\, mild\, vegetarian\, chicken\, and more! Salads\, desserts and drinks will be provided. All proceeds will benefit A Storehouse for Jesus.<br />\n<br />\nCall Alice Hanes for more information 336.751.2237
LOCATION:First United Methodist Church - Family Life Center 310 N. Main Street Mocksville\, NC 27028
UID:e.2378.13628
SEQUENCE:3
DTSTAMP:20260421T165621Z
URL:https://business.daviechamber.com/events/details/16th-annual-chili-cookoff-first-united-methodist-church-13628
END:VEVENT

END:VCALENDAR
