BEGIN:VCALENDAR
VERSION:2.0
PRODID:-//ChamberMaster//Event Calendar 2.0//EN
METHOD:PUBLISH
X-PUBLISHED-TTL:P3D
REFRESH-INTERVAL:P3D
CALSCALE:GREGORIAN
BEGIN:VEVENT
DTSTART:20160521T190000Z
DTEND:20160521T220000Z
X-MICROSOFT-CDO-ALLDAYEVENT:FALSE
SUMMARY:2016 Color Downtown
DESCRIPTION:Ready to get outdoors and have some fun? Mark your calendars because you don't want to miss the 2nd annual Color Downtown! A fun run for all ages and fitness levels. Entry fees are non-refundable and 100% of the proceeds will benefit victims of domestic violence. Online registration is open at Active.com or the agency's Facebook page. If you register by April 23rd\, you are guaranteed an event t-shirt\, a bag of color and a discounted registration fee.\n\n\n\nRain Date: June 4\, 2016
X-ALT-DESC;FMTTYPE=text/html:Ready to get outdoors and have some fun? Mark your calendars because you don&#39\;t want to miss the 2nd annual Color Downtown! A fun run for all ages and fitness levels. Entry fees are non-refundable and 100% of the proceeds will benefit victims of domestic violence. Online registration is open at Active.com or the agency&#39\;s Facebook page. If you register by April 23rd\, you are guaranteed an event t-shirt\, a bag of color and a discounted registration fee.<br />\n<br />\n<em>Rain Date: June 4\, 2016</em>
LOCATION:Rich Park Cemetery St.\, Mocksville
UID:e.2378.4578
SEQUENCE:3
DTSTAMP:20260423T004640Z
URL:https://business.daviechamber.com/events/details/2016-color-downtown-05-21-2016-4578
END:VEVENT

END:VCALENDAR
