BEGIN:VCALENDAR
VERSION:2.0
PRODID:-//ChamberMaster//Event Calendar 2.0//EN
METHOD:PUBLISH
X-PUBLISHED-TTL:P3D
REFRESH-INTERVAL:P3D
CALSCALE:GREGORIAN
BEGIN:VEVENT
DTSTART:20170324T223000Z
DTEND:20170325T020000Z
X-MICROSOFT-CDO-ALLDAYEVENT:FALSE
SUMMARY:21st Annual Cause for Paws
DESCRIPTION:The 21st Annual Cause for Paws will support the Humane Society of Davie County's Spay/Neuter fund. The evening will consist of dinner and an interactive murder mystery.
X-ALT-DESC;FMTTYPE=text/html:The 21st Annual Cause for Paws will support the Humane Society of Davie County&#39\;s Spay/Neuter fund. The evening will consist of dinner and an interactive murder mystery.
LOCATION:WinMock at Kinderton 168 E Kinderton Way Bermuda Run\, NC 27006
UID:e.2378.11535
SEQUENCE:3
DTSTAMP:20260422T094910Z
URL:https://business.daviechamber.com/events/details/21st-annual-cause-for-paws-11535
END:VEVENT

END:VCALENDAR
