BEGIN:VCALENDAR
VERSION:2.0
PRODID:-//ChamberMaster//Event Calendar 2.0//EN
METHOD:PUBLISH
X-PUBLISHED-TTL:P3D
REFRESH-INTERVAL:P3D
CALSCALE:GREGORIAN
BEGIN:VEVENT
DTSTART:20160305T120000Z
DTEND:20160305T160000Z
X-MICROSOFT-CDO-ALLDAYEVENT:FALSE
SUMMARY:28th Annual Shamrock 5K & 10K Run
DESCRIPTION:The 28th Shamrock Run and Walk 5k & 10K is Saturday March 5th.  The courses are both USATF Certified and go through the heart of historic and scenic downtown Mocksville\, North Carolina!\n\nMocksville is in Davie County and located off of I-40 between Statesville and Winston-Salem. St. Francis of Assisi Catholic Church has been hosting.\n\nThe Shamrock Run\, Walk & Tot's Trot for 27 years to help local charities and the Davie County community!!\n\nThis year they will be supporting The Dragonfly House.
X-ALT-DESC;FMTTYPE=text/html:The 28th Shamrock Run and Walk 5k &amp\; 10K is Saturday March 5th.&nbsp\; The courses are both USATF Certified and go through the heart of historic and scenic downtown Mocksville\, North Carolina!<br />\nMocksville is in Davie County and located off of I-40 between Statesville and Winston-Salem. St. Francis of Assisi Catholic Church has been hosting.<br />\nThe Shamrock Run\, Walk &amp\; Tot&#39\;s Trot for 27 years to help local charities and the Davie County community!!<br />\nThis year they will be supporting The Dragonfly House.
LOCATION:St. Francis of Assisi Catholic Church 862 Yadkinville Road\, Mocksville
UID:e.2378.4265
SEQUENCE:3
DTSTAMP:20260423T040942Z
URL:https://business.daviechamber.com/events/details/28th-annual-shamrock-5k-10k-run-03-05-2016-4265
END:VEVENT

END:VCALENDAR
