BEGIN:VCALENDAR
VERSION:2.0
PRODID:-//ChamberMaster//Event Calendar 2.0//EN
METHOD:PUBLISH
X-PUBLISHED-TTL:P3D
REFRESH-INTERVAL:P3D
CALSCALE:GREGORIAN
BEGIN:VEVENT
DTSTART:20151205T150000Z
DTEND:20151205T210000Z
X-MICROSOFT-CDO-ALLDAYEVENT:FALSE
SUMMARY:2nd Annual Davie County Library Christmas Bazaar
DESCRIPTION:Bazaar's proceeds will go to a deserving family in need of some help through the holiday! Lots of great Vendors to do your Christmas shopping!\n\n\n\nCome bid on our Silent Auction items! (Final Bid at 3 PM)
X-ALT-DESC;FMTTYPE=text/html:Bazaar&#39\;s proceeds will go to a deserving family in need of some help through the holiday! Lots of great Vendors to do your Christmas shopping!<br />\n<br />\nCome bid on our Silent Auction items! <span style="font-size:11px\;"><em>(Final Bid at 3 PM)</em></span>
LOCATION:Davie County Public Library 371 N. Main St.\, Mocksville
UID:e.2378.4309
SEQUENCE:3
DTSTAMP:20260423T085306Z
URL:https://business.daviechamber.com/events/details/2nd-annual-davie-county-library-christmas-bazaar-12-05-2015-4309
END:VEVENT

END:VCALENDAR
