BEGIN:VCALENDAR
VERSION:2.0
PRODID:-//ChamberMaster//Event Calendar 2.0//EN
METHOD:PUBLISH
X-PUBLISHED-TTL:P3D
REFRESH-INTERVAL:P3D
CALSCALE:GREGORIAN
BEGIN:VEVENT
DTSTART:20151107T140000Z
DTEND:20151107T180000Z
X-MICROSOFT-CDO-ALLDAYEVENT:FALSE
SUMMARY:2nd Annual Farmington Fire Dept. Christmas Bazaar
DESCRIPTION:Come join the Farmington Fire Dept. for their 2nd annual Christmas Bazaar. Plenty of baked goods\, food\, and vendors.
X-ALT-DESC;FMTTYPE=text/html:Come join the Farmington Fire Dept. for their 2nd annual Christmas Bazaar. Plenty of baked goods\, food\, and vendors.
LOCATION:Farmington Fire Department 1880 Farmington Rd\, Mocksville
UID:e.2378.4264
SEQUENCE:3
DTSTAMP:20260423T095322Z
URL:https://business.daviechamber.com/events/details/2nd-annual-farmington-fire-dept-christmas-bazaar-11-07-2015-4264
END:VEVENT

END:VCALENDAR
