BEGIN:VCALENDAR
VERSION:2.0
PRODID:-//ChamberMaster//Event Calendar 2.0//EN
METHOD:PUBLISH
X-PUBLISHED-TTL:P3D
REFRESH-INTERVAL:P3D
CALSCALE:GREGORIAN
BEGIN:VEVENT
DTSTART:20170429T140000Z
DTEND:20170429T210000Z
X-MICROSOFT-CDO-ALLDAYEVENT:FALSE
SUMMARY:2nd Annual William R. Davie VFD Spring Fling
DESCRIPTION:Jumping Castle | Food | Silent Auction | Music\n\nShow Cars | Cornhole Tournament | Fire Trucks\n\nFace Painting | Crafts & Vendors | Fun For All Ages!\n\n\n\n*Vendors & Crafts - $20 per spot\, 10x10 area - contact Gene Dobbins @ 336.341.9519\n\n*Sponsors - $50+\, name on event t-shirts - contact Stephen Correll @ 336.909.8480
X-ALT-DESC;FMTTYPE=text/html:Jumping Castle | Food | Silent Auction | Music<br />\nShow Cars | Cornhole Tournament | Fire Trucks<br />\nFace Painting | Crafts &amp\; Vendors | Fun For All Ages!<br />\n<br />\n<strong><em>*Vendors &amp\; Crafts - $20 per spot\, 10x10 area - contact Gene Dobbins @ 336.341.9519<br />\n*Sponsors - $50+\, name on event t-shirts - contact Stephen Correll @ 336.909.8480</em></strong>
LOCATION:William R Davie VFD 3401 US Hwy 601 N Mocksville\, NC 27028
UID:e.2378.11273
SEQUENCE:3
DTSTAMP:20260422T104157Z
URL:https://business.daviechamber.com/events/details/2nd-annual-william-r-davie-vfd-spring-fling-11273
END:VEVENT

END:VCALENDAR
