BEGIN:VCALENDAR
VERSION:2.0
PRODID:-//ChamberMaster//Event Calendar 2.0//EN
METHOD:PUBLISH
X-PUBLISHED-TTL:P3D
REFRESH-INTERVAL:P3D
CALSCALE:GREGORIAN
BEGIN:VEVENT
DTSTART:20230304T133000Z
DTEND:20230304T190000Z
X-MICROSOFT-CDO-ALLDAYEVENT:FALSE
SUMMARY:3rd Annual Chilly Chili Bowl
DESCRIPTION:This is a sanctioned X-C Tier Event\, with all proceeds going to the Farmington Community Center and Davie Disc Golf for course maintenance. Come out and enjoy the day and have some Award Winning Chili on us.\n\n\n\nRegister at https://www.discgolfscene.com/.../3rd_Annual_Chilly_Chili....\n\n\n\nDavie Chamber | Town of Mocksville | Town of Bermuda Run | Davie County | DavieLiFE Magazine | Davie County Enterprise-Record
X-ALT-DESC;FMTTYPE=text/html:<div class="x11i5rnm xat24cr x1mh8g0r x1vvkbs xdj266r x126k92a" style="margin: 0px\; white-space: pre-wrap\; overflow-wrap: break-word\; font-family: &quot\;Segoe UI Historic&quot\;\, &quot\;Segoe UI&quot\;\, Helvetica\, Arial\, sans-serif\; color: rgb(5\, 5\, 5)\; font-size: 15px\;">\n<div dir="auto" style="font-family: inherit\;"><span style="font-size:16px\;"><span style="font-family:tahoma\;">This is a sanctioned X-C Tier Event\, with all proceeds going to the Farmington Community Center and <a class="x1i10hfl xjbqb8w x6umtig x1b1mbwd xaqea5y xav7gou x9f619 x1ypdohk xt0psk2 xe8uvvx xdj266r x11i5rnm xat24cr x1mh8g0r xexx8yu x4uap5 x18d9i69 xkhd6sd x16tdsg8 x1hl2dhg xggy1nq x1a2a7pz xt0b8zv x1qq9wsj xo1l8bm" href="https://www.facebook.com/DavieDiscGolf?__cft__[0]=AZUydyERgE7LN5ZhVcYBR-W4NBBzhGTeo4hGzBN4iKwlWCdLckr9r53MY8wbLq7_EV3PxKCi5FEom-erRny7LbG4jeehrvUPpGqhq8CbYLYRlhTJ_iuK466VfNqLUrfSy8-6F7JaYln0qz9lNGz90zv304Zn9HFGf0Gw11KUEO6j2PKlTC3U8sQh5SFOVfDAeIM&amp\;__tn__=-]K-R" role="link" style="color: var(--accent)\; cursor: pointer\; text-decoration-line: none\; margin: 0px\; text-align: inherit\; padding: 0px\; outline: none\; border-width: 0px\; border-style: initial\; border-color: initial\; -webkit-tap-highlight-color: transparent\; box-sizing: border-box\; list-style: none\; touch-action: manipulation\; background-color: transparent\; display: inline\; font-family: inherit\;" tabindex="0"><span class="xt0psk2" style="display: inline\;">Davie Disc Golf</span></a> for course maintenance. Come out and enjoy the day and have some Award Winning Chili on us.</span></span></div>\n</div>\n\n<div class="x11i5rnm xat24cr x1mh8g0r x1vvkbs xtlvy1s x126k92a" style="margin: 0.5em 0px 0px\; white-space: pre-wrap\; overflow-wrap: break-word\; font-family: &quot\;Segoe UI Historic&quot\;\, &quot\;Segoe UI&quot\;\, Helvetica\, Arial\, sans-serif\; color: rgb(5\, 5\, 5)\; font-size: 15px\;">\n<div dir="auto" style="font-family: inherit\;"><span style="font-size:16px\;"><span style="font-family:tahoma\;">Register at <u><strong><a class="x1i10hfl xjbqb8w x6umtig x1b1mbwd xaqea5y xav7gou x9f619 x1ypdohk xt0psk2 xe8uvvx xdj266r x11i5rnm xat24cr x1mh8g0r xexx8yu x4uap5 x18d9i69 xkhd6sd x16tdsg8 x1hl2dhg xggy1nq x1a2a7pz xt0b8zv x1fey0fg" href="https://www.discgolfscene.com/tournaments/3rd_Annual_Chilly_Chili_Bowl_2023?fbclid=IwAR1mtzryQprt1ZqxixcONx1_Zvcjw-i_1-RJJIDxmGdULJnClPL0v7ak2ng" rel="nofollow noopener" role="link" style="color: var(--blue-link)\; cursor: pointer\; text-decoration-line: none\; margin: 0px\; text-align: inherit\; padding: 0px\; outline: none\; border-width: 0px\; border-style: initial\; border-color: initial\; -webkit-tap-highlight-color: transparent\; box-sizing: border-box\; list-style: none\; touch-action: manipulation\; background-color: transparent\; display: inline\; font-family: inherit\;" tabindex="0" target="_blank">https://www.discgolfscene.com/.../3rd_Annual_Chilly_Chili...</a><a href="https://www.discgolfscene.com/.../3rd_Annual_Chilly_Chili....">.</a></strong></u></span></span></div>\n</div>\n\n<div class="x11i5rnm xat24cr x1mh8g0r x1vvkbs xtlvy1s x126k92a" style="margin: 0.5em 0px 0px\; white-space: pre-wrap\; overflow-wrap: break-word\; font-family: &quot\;Segoe UI Historic&quot\;\, &quot\;Segoe UI&quot\;\, Helvetica\, Arial\, sans-serif\; color: rgb(5\, 5\, 5)\; font-size: 15px\;">\n<div dir="auto" style="font-family: inherit\;"><span style="font-size:16px\;"><span style="font-family:tahoma\;"><a class="x1i10hfl xjbqb8w x6umtig x1b1mbwd xaqea5y xav7gou x9f619 x1ypdohk xt0psk2 xe8uvvx xdj266r x11i5rnm xat24cr x1mh8g0r xexx8yu x4uap5 x18d9i69 xkhd6sd x16tdsg8 x1hl2dhg xggy1nq x1a2a7pz xt0b8zv x1qq9wsj xo1l8bm" href="https://www.facebook.com/DavieChamber?__cft__[0]=AZUydyERgE7LN5ZhVcYBR-W4NBBzhGTeo4hGzBN4iKwlWCdLckr9r53MY8wbLq7_EV3PxKCi5FEom-erRny7LbG4jeehrvUPpGqhq8CbYLYRlhTJ_iuK466VfNqLUrfSy8-6F7JaYln0qz9lNGz90zv304Zn9HFGf0Gw11KUEO6j2PKlTC3U8sQh5SFOVfDAeIM&amp\;__tn__=-]K-R" role="link" style="color: var(--accent)\; cursor: pointer\; text-decoration-line: none\; margin: 0px\; text-align: inherit\; padding: 0px\; outline: none\; border-width: 0px\; border-style: initial\; border-color: initial\; -webkit-tap-highlight-color: transparent\; box-sizing: border-box\; list-style: none\; touch-action: manipulation\; background-color: transparent\; display: inline\; font-family: inherit\;" tabindex="0"><span class="xt0psk2" style="display: inline\;">Davie Chamber</span></a> | <a class="x1i10hfl xjbqb8w x6umtig x1b1mbwd xaqea5y xav7gou x9f619 x1ypdohk xt0psk2 xe8uvvx xdj266r x11i5rnm xat24cr x1mh8g0r xexx8yu x4uap5 x18d9i69 xkhd6sd x16tdsg8 x1hl2dhg xggy1nq x1a2a7pz xt0b8zv x1qq9wsj xo1l8bm" href="https://www.facebook.com/Town-of-Mocksville-133260650058218/?__cft__[0]=AZUydyERgE7LN5ZhVcYBR-W4NBBzhGTeo4hGzBN4iKwlWCdLckr9r53MY8wbLq7_EV3PxKCi5FEom-erRny7LbG4jeehrvUPpGqhq8CbYLYRlhTJ_iuK466VfNqLUrfSy8-6F7JaYln0qz9lNGz90zv304Zn9HFGf0Gw11KUEO6j2PKlTC3U8sQh5SFOVfDAeIM&amp\;__tn__=kK-R" role="link" style="color: var(--accent)\; cursor: pointer\; text-decoration-line: none\; margin: 0px\; text-align: inherit\; padding: 0px\; outline: none\; border-width: 0px\; border-style: initial\; border-color: initial\; -webkit-tap-highlight-color: transparent\; box-sizing: border-box\; list-style: none\; touch-action: manipulation\; background-color: transparent\; display: inline\; font-family: inherit\;" tabindex="0"><span class="xt0psk2" style="display: inline\;">Town of Mocksville</span></a> | <a class="x1i10hfl xjbqb8w x6umtig x1b1mbwd xaqea5y xav7gou x9f619 x1ypdohk xt0psk2 xe8uvvx xdj266r x11i5rnm xat24cr x1mh8g0r xexx8yu x4uap5 x18d9i69 xkhd6sd x16tdsg8 x1hl2dhg xggy1nq x1a2a7pz xt0b8zv x1qq9wsj xo1l8bm" href="https://www.facebook.com/bermudarunnc?__cft__[0]=AZUydyERgE7LN5ZhVcYBR-W4NBBzhGTeo4hGzBN4iKwlWCdLckr9r53MY8wbLq7_EV3PxKCi5FEom-erRny7LbG4jeehrvUPpGqhq8CbYLYRlhTJ_iuK466VfNqLUrfSy8-6F7JaYln0qz9lNGz90zv304Zn9HFGf0Gw11KUEO6j2PKlTC3U8sQh5SFOVfDAeIM&amp\;__tn__=-]K-R" role="link" style="color: var(--accent)\; cursor: pointer\; text-decoration-line: none\; margin: 0px\; text-align: inherit\; padding: 0px\; outline: none\; border-width: 0px\; border-style: initial\; border-color: initial\; -webkit-tap-highlight-color: transparent\; box-sizing: border-box\; list-style: none\; touch-action: manipulation\; background-color: transparent\; display: inline\; font-family: inherit\;" tabindex="0"><span class="xt0psk2" style="display: inline\;">Town of Bermuda Run</span></a> | <a class="x1i10hfl xjbqb8w x6umtig x1b1mbwd xaqea5y xav7gou x9f619 x1ypdohk xt0psk2 xe8uvvx xdj266r x11i5rnm xat24cr x1mh8g0r xexx8yu x4uap5 x18d9i69 xkhd6sd x16tdsg8 x1hl2dhg xggy1nq x1a2a7pz xt0b8zv x1qq9wsj xo1l8bm" href="https://www.facebook.com/daviecounty?__cft__[0]=AZUydyERgE7LN5ZhVcYBR-W4NBBzhGTeo4hGzBN4iKwlWCdLckr9r53MY8wbLq7_EV3PxKCi5FEom-erRny7LbG4jeehrvUPpGqhq8CbYLYRlhTJ_iuK466VfNqLUrfSy8-6F7JaYln0qz9lNGz90zv304Zn9HFGf0Gw11KUEO6j2PKlTC3U8sQh5SFOVfDAeIM&amp\;__tn__=-]K-R" role="link" style="color: var(--accent)\; cursor: pointer\; text-decoration-line: none\; margin: 0px\; text-align: inherit\; padding: 0px\; outline: none\; border-width: 0px\; border-style: initial\; border-color: initial\; -webkit-tap-highlight-color: transparent\; box-sizing: border-box\; list-style: none\; touch-action: manipulation\; background-color: transparent\; display: inline\; font-family: inherit\;" tabindex="0"><span class="xt0psk2" style="display: inline\;">Davie County</span></a> | <a class="x1i10hfl xjbqb8w x6umtig x1b1mbwd xaqea5y xav7gou x9f619 x1ypdohk xt0psk2 xe8uvvx xdj266r x11i5rnm xat24cr x1mh8g0r xexx8yu x4uap5 x18d9i69 xkhd6sd x16tdsg8 x1hl2dhg xggy1nq x1a2a7pz xt0b8zv x1qq9wsj xo1l8bm" href="https://www.facebook.com/DavieLiFEmagazine?__cft__[0]=AZUydyERgE7LN5ZhVcYBR-W4NBBzhGTeo4hGzBN4iKwlWCdLckr9r53MY8wbLq7_EV3PxKCi5FEom-erRny7LbG4jeehrvUPpGqhq8CbYLYRlhTJ_iuK466VfNqLUrfSy8-6F7JaYln0qz9lNGz90zv304Zn9HFGf0Gw11KUEO6j2PKlTC3U8sQh5SFOVfDAeIM&amp\;__tn__=-]K-R" role="link" style="color: var(--accent)\; cursor: pointer\; text-decoration-line: none\; margin: 0px\; text-align: inherit\; padding: 0px\; outline: none\; border-width: 0px\; border-style: initial\; border-color: initial\; -webkit-tap-highlight-color: transparent\; box-sizing: border-box\; list-style: none\; touch-action: manipulation\; background-color: transparent\; display: inline\; font-family: inherit\;" tabindex="0"><span class="xt0psk2" style="display: inline\;">DavieLiFE Magazine</span></a> | Davie County Enterprise-Record</span></span></div>\n</div>\n
LOCATION:Davie Disc Golf Course
UID:e.2378.22768
SEQUENCE:3
DTSTAMP:20260424T102815Z
URL:https://business.daviechamber.com/events/details/3rd-annual-chilly-chili-bowl-22768
END:VEVENT

END:VCALENDAR
