BEGIN:VCALENDAR
VERSION:2.0
PRODID:-//ChamberMaster//Event Calendar 2.0//EN
METHOD:PUBLISH
X-PUBLISHED-TTL:P3D
REFRESH-INTERVAL:P3D
CALSCALE:GREGORIAN
BEGIN:VEVENT
DTSTART:20161115T230000Z
DTEND:20161116T023000Z
X-MICROSOFT-CDO-ALLDAYEVENT:FALSE
SUMMARY:3rd Annual Paws in the Park
DESCRIPTION:Paws in the Park is a unique opportunity to walk through the magical Tanglewood Festival of Lights with or without a four legged puppy pal. Proceeds from this event will help the Humane Society of Davie County rescue\, care for\, and place abandoned dogs and cats into loving homes.\n\n\n\nEnjoy dinner at the food truck rodeo | Get an early start on your holiday shopping | Listen to holiday music | Stroll through the enchanted light display with or without your tail wagging friends
X-ALT-DESC;FMTTYPE=text/html:Paws in the Park is a unique opportunity to walk through the magical Tanglewood&nbsp\;Festival of Lights with or without a four legged puppy pal. Proceeds from this event will help the Humane Society of Davie County rescue\, care for\, and place abandoned dogs and cats into loving homes.<br />\n<br />\nEnjoy dinner at the food truck rodeo | Get an early start on your holiday shopping | Listen to holiday music | Stroll through the enchanted light display with or without your tail wagging friends
LOCATION:Tanglewood Park 4061 Clemmons Rd Clemmons\, NC
UID:e.2378.9946
SEQUENCE:3
DTSTAMP:20260422T155159Z
URL:https://business.daviechamber.com/events/details/3rd-annual-paws-in-the-park-9946
END:VEVENT

END:VCALENDAR
