BEGIN:VCALENDAR
VERSION:2.0
PRODID:-//ChamberMaster//Event Calendar 2.0//EN
METHOD:PUBLISH
X-PUBLISHED-TTL:P3D
REFRESH-INTERVAL:P3D
CALSCALE:GREGORIAN
BEGIN:VEVENT
DTSTART:20151010T130000Z
DTEND:20151010T180000Z
X-MICROSOFT-CDO-ALLDAYEVENT:FALSE
SUMMARY:4th Annual Brandon's Buddies Charity Golf Tournament
DESCRIPTION:The Brandon's Buddies Foundation is dedicated to lovingly supporting children battling cancer through the gift of a stuffed animal buddy and by providing financial assistance to their families. This annual golf tournament supports Brandon's Buddies in their effort to help families with a child battling cancer.
X-ALT-DESC;FMTTYPE=text/html:The Brandon&#39\;s Buddies Foundation is dedicated to lovingly supporting children battling cancer through the gift of a stuffed animal buddy and by providing financial assistance to their families. This annual golf tournament supports Brandon&#39\;s Buddies in their effort to help families with a child battling cancer.
LOCATION:Bermuda Run West Country Club
UID:e.2378.879
SEQUENCE:3
DTSTAMP:20260423T110904Z
URL:https://business.daviechamber.com/events/details/4th-annual-brandon-s-buddies-charity-golf-tournament-10-10-2015-879
END:VEVENT

END:VCALENDAR
