BEGIN:VCALENDAR
VERSION:2.0
PRODID:-//ChamberMaster//Event Calendar 2.0//EN
METHOD:PUBLISH
X-PUBLISHED-TTL:P3D
REFRESH-INTERVAL:P3D
CALSCALE:GREGORIAN
BEGIN:VEVENT
DTSTART:20241208T190000Z
DTEND:20241208T220000Z
X-MICROSOFT-CDO-ALLDAYEVENT:FALSE
SUMMARY:4th Annual Christmas In Town of Bermuda Run
DESCRIPTION:Free to the public - all are welcome! Santa & Mrs. Claus\, the Elves\, Letters to Santa\, Crafts & Music\, Games for all Ages\, Carriage & Train Rides\, Lighting of the Town Christmas Tree\, and more!
X-ALT-DESC;FMTTYPE=text/html:<span style="color: rgb(8\, 8\, 9)\; font-family: &quot\;Segoe UI Historic&quot\;\, &quot\;Segoe UI&quot\;\, Helvetica\, Arial\, sans-serif\; font-size: 15px\;">Free to the public - all are welcome! Santa &amp\; Mrs. Claus\, the Elves\, Letters to Santa\, Crafts &amp\; Music\, Games for all Ages\, Carriage &amp\; Train Rides\, Lighting of the Town Christmas Tree\, and more!</span>
LOCATION:The Gazebo in Town Square- Kinderton Blvd
UID:e.2378.25106
SEQUENCE:3
DTSTAMP:20260426T034755Z
URL:https://business.daviechamber.com/events/details/4th-annual-christmas-in-town-of-bermuda-run-25106
END:VEVENT

END:VCALENDAR
