BEGIN:VCALENDAR
VERSION:2.0
PRODID:-//ChamberMaster//Event Calendar 2.0//EN
METHOD:PUBLISH
X-PUBLISHED-TTL:P3D
REFRESH-INTERVAL:P3D
CALSCALE:GREGORIAN
BEGIN:VEVENT
DTSTART:20260320T113000Z
DTEND:20260320T133000Z
X-MICROSOFT-CDO-ALLDAYEVENT:FALSE
SUMMARY:56th Chamber Annual Meeting
DESCRIPTION:SOLD OUT - WAIT LIST ONLY contact chamber@daviecounty.com\n\n\n\nThe Davie County Chamber of Commerce is excited to announce its 56th Annual Meeting\, taking place on Friday\, March 20\, 2026 at WinMock at Kinderton. Doors open at 7:30 AM with breakfast\, and the program will run from 8:15 9:30 AM.\n\nThis year's meeting will highlight the strength of our local business community. Attendees will enjoy an engaging program featuring awards\, updates\, and a keynote presentation.\n\nProgram Highlights\nChamber Welcome & Awards\n\n\n	Business of the Year\n	E.C. Tatum Humanitarian Award\n	Ambassador of the Year\n	Caterer of the Year\n	\n	Introductions by:\n\n	Julia C. Howard\n\n	NC State Representative\n	\n	\n	Keynote Speaker:\n\n	Dave Gerlach\, Owner of Dan Gerlach LLC\n\n	"Davie County: Triad Powerhouse"\n\n	Dan Gerlach\, former Governor's advisor and president of the Golden LEAF Foundation\, will present on the national/state/local economy through a Davie County lens.   He'll explain from an outside perspective why the Davie County business climate proves that "you belong here."\n	\n\n\nRegistration Details\n\n\n	\n	Member Cost: $40 per person | $320 reserved table of 8\n	\n	\n	Non-Member Cost: $50 per person | $400 reserved table of 8\n	\n	\n	Registration Deadline: Friday\, March 6\, 2026\n	\n\n\nMembers may register through the Chamber website via the Member Login Portal - or contact the chamber.\n\n\nSponsorship Opportunities\n\nBusinesses looking to elevate visibility and support the Chamber's mission can participate as event sponsors. Opportunities include:\n\nDiamond Sponsor   $2\,000 (1 Available)\n\n\n	Podium time at event\n	On-screen advertising during breakfast\n	Logo on all marketing materials\n	Promotion on Chamber social platforms\n	Private table for eight guests\n	Marketing material placement for each attendee\n\n\nPlatinum Sponsor   $1\,000\n\n\n	On-screen advertising during breakfast\n	Logo on all marketing materials\n	Promotion on Chamber social platforms\n	Private reserved table of eight\n	Marketing material placement for attendees\n\n\nGold Sponsor   $500 \n\n\n	Promotion on Chamber social platforms\n	Logo on printed materials\n	Marketing material placement for attendees\n	Two complimentary event tickets\n\n\nSilver Sponsor   $250\n\n\n	Promotion on Chamber social platforms\n	Logo placement on printed materials\n\n\nSponsorship commitments and logos must be submitted by Monday\, March 2\, 2026.\n\n\nThe Chamber looks forward to celebrating the progress\, partnerships\, and momentum shaping Davie County. This is a signature annual event that consistently draws strong attendance from business leaders\, elected officials\, community partners\, and stakeholders across the county and region.
X-ALT-DESC;FMTTYPE=text/html:<p data-end="550" data-start="300"><span style="font-size:12px\;"><span style="color:#FF0000\;">SOLD OUT - WAIT LIST ONLY contact chamber@daviecounty.com</span><br />\n<br />\nThe Davie County Chamber of Commerce is excited to announce its <strong data-end="387" data-start="364">56th Annual Meeting</strong>\, taking place on <strong data-end="431" data-start="405">Friday\, March 20\, 2026</strong> at <strong data-end="459" data-start="435">WinMock at Kinderton</strong>. Doors open at <strong data-end="486" data-start="475">7:30 AM</strong> with breakfast\, and the program will run from <strong data-end="549" data-start="533">8:15&ndash\;9:30 AM</strong>.</span></p>\n\n<p data-end="812" data-start="552"><span style="font-size:12px\;">This year&rsquo\;s meeting will highlight the strength of our local business community. Attendees will enjoy an engaging program featuring awards\, updates\, and a keynote presentation.</span></p>\n\n<h3 data-end="840" data-start="814"><span style="font-size:12px\;"><strong data-end="840" data-start="818">Program Highlights</strong></span></h3>\n<span style="font-size:12px\;"><strong data-end="871" data-start="843">Chamber Welcome &amp\; Awards</strong></span>\n\n<ul data-end="1332" data-start="841">\n	<li data-end="871" data-start="843"><em><span style="font-size:12px\;"><strong data-end="900" data-start="876">Business of the Year</strong></span></em></li>\n	<li data-end="900" data-start="876"><em><span style="font-size:12px\;"><strong data-end="900" data-start="876"><strong data-end="938" data-start="905">E.C. Tatum Humanitarian Award</strong></strong></span></em></li>\n	<li data-end="900" data-start="876"><em><span style="font-size:12px\;"><strong data-end="969" data-start="943">Ambassador of the Year</strong></span></em></li>\n	<li data-end="900" data-start="876"><em><span style="font-size:12px\;"><strong data-end="997" data-start="974">Caterer of the Year</strong></span></em></li>\n	<li data-end="1074" data-start="999">\n	<p data-end="1074" data-start="1001"><span style="font-size:12px\;"><strong data-end="1022" data-start="1001">Introductions by:</strong><br data-end="1025" data-start="1022" />\n	<strong>Julia C. Howard</strong><br data-end="1049" data-start="1046" />\n	NC State Representative</span></p>\n	</li>\n	<li data-end="1332" data-start="1076">\n	<p data-end="1332" data-start="1078"><span style="font-size:12px\;"><strong data-end="1098" data-start="1078">Keynote Speaker:</strong><br data-end="1101" data-start="1098" />\n	<strong data-end="1145" data-start="1103">Dave Gerlach\, Owner of Dan Gerlach LLC</strong><br data-end="1148" data-start="1145" />\n	<em data-end="1184" data-start="1150">&ldquo\;Davie County: Triad Powerhouse&rdquo\;</em><br data-end="1187" data-start="1184" />\n	<span style="color:black\;">Dan Gerlach\, former Governor&#39\;s advisor and president of the Golden LEAF Foundation\, will present on the national/state/local economy through a Davie County lens.&nbsp\; &nbsp\;He&#39\;ll explain from an outside perspective why the Davie County business climate proves that &quot\;you belong here.&quot\;</span></span></p>\n	</li>\n</ul>\n\n<h3 data-end="1362" data-start="1334"><span style="font-size:12px\;"><strong data-end="1362" data-start="1338">Registration Details</strong></span></h3>\n\n<ul data-end="1547" data-start="1363">\n	<li data-end="1425" data-start="1363">\n	<p data-end="1425" data-start="1365"><span style="font-size:12px\;"><strong data-end="1381" data-start="1365">Member Cost:</strong> $40 per person | $320 reserved table of 8</span></p>\n	</li>\n	<li data-end="1492" data-start="1426">\n	<p data-end="1492" data-start="1428"><span style="font-size:12px\;"><strong data-end="1448" data-start="1428">Non-Member Cost:</strong> $50 per person | $400 reserved table of 8</span></p>\n	</li>\n	<li data-end="1547" data-start="1493">\n	<p data-end="1547" data-start="1495"><span style="font-size:12px\;"><strong data-end="1521" data-start="1495">Registration Deadline:</strong> <strong data-end="1547" data-start="1522">Friday\, March 6\, 2026</strong></span></p>\n	</li>\n</ul>\n\n<p data-end="1630" data-start="1549"><span style="font-size:12px\;">Members may register through the Chamber website via the <strong data-end="1629" data-start="1606">Member Login Portal - or contact the chamber.</strong></span></p>\n\n<hr data-end="1635" data-start="1632" />\n<h2 data-end="1669" data-start="1637"><span style="font-size:12px\;"><strong data-end="1669" data-start="1640">Sponsorship Opportunities</strong></span></h2>\n\n<p data-end="1803" data-start="1671"><span style="font-size:12px\;">Businesses looking to elevate visibility and support the Chamber&rsquo\;s mission can participate as event sponsors. Opportunities include:</span></p>\n\n<h3 data-end="1851" data-start="1805"><span style="font-size:12px\;">Diamond Sponsor &ndash\; $2\,000 (1 Available)</span></h3>\n\n<ul data-end="2071" data-start="1852">\n	<li data-end="1874" data-start="1854"><span style="font-size:12px\;">Podium time at event</span></li>\n	<li data-end="1874" data-start="1854"><span style="font-size:12px\;">On-screen advertising during breakfast</span></li>\n	<li data-end="1915" data-start="1877"><span style="font-size:12px\;">Logo on all marketing materials</span></li>\n	<li data-end="1949" data-start="1918"><span style="font-size:12px\;">Promotion on Chamber social platforms</span></li>\n	<li data-end="1989" data-start="1952"><span style="font-size:12px\;">Private table for eight guests</span></li>\n	<li data-end="1989" data-start="1952"><span style="font-size:12px\;">Marketing material placement for each attendee</span></li>\n</ul>\n\n<h3 data-end="2120" data-start="2073"><span style="font-size:12px\;"><strong data-end="2120" data-start="2077">Platinum Sponsor &ndash\; $1\,000</strong></span></h3>\n\n<ul data-end="2314" data-start="2121">\n	<li data-end="2161" data-start="2123"><span style="font-size:12px\;">On-screen advertising during breakfast</span></li>\n	<li data-end="2161" data-start="2123"><span style="font-size:12px\;">Logo on all marketing materials</span></li>\n	<li data-end="2195" data-start="2164"><span style="font-size:12px\;">Promotion on Chamber social platforms</span></li>\n	<li data-end="2269" data-start="2238"><span style="font-size:12px\;">Private reserved table of eight</span></li>\n	<li data-end="2269" data-start="2238"><span style="font-size:12px\;">Marketing material placement for attendees</span></li>\n</ul>\n\n<h3 data-end="2357" data-start="2316"><span style="font-size:12px\;"><strong data-end="2357" data-start="2320">Gold Sponsor &ndash\; $500&nbsp\;</strong></span></h3>\n\n<ul data-end="2504" data-start="2358">\n	<li data-end="2397" data-start="2360"><span style="font-size:12px\;">Promotion on Chamber social platforms</span></li>\n	<li data-end="2397" data-start="2360"><span style="font-size:12px\;">Logo on printed materials</span></li>\n	<li data-end="2470" data-start="2428"><span style="font-size:12px\;">Marketing material placement for attendees</span></li>\n	<li data-end="2470" data-start="2428"><span style="font-size:12px\;">Two complimentary event tickets</span></li>\n</ul>\n\n<h3 data-end="2549" data-start="2506"><span style="font-size:12px\;"><strong data-end="2549" data-start="2510">Silver Sponsor &ndash\; $250</strong></span></h3>\n\n<ul>\n	<li data-end="2589" data-start="2552"><span style="font-size:12px\;">Promotion on Chamber social platforms</span></li>\n	<li data-end="2589" data-start="2552"><span style="font-size:12px\;">Logo placement on printed materials</span></li>\n</ul>\n\n<p data-end="2710" data-start="2629"><span style="font-size:12px\;">Sponsorship commitments and logos must be submitted by <strong data-end="2709" data-start="2684">Monday\, March 2\, 2026</strong>.</span></p>\n\n<hr data-end="2715" data-start="2712" />\n<p data-end="3004" data-start="2717"><span style="font-size:12px\;">The Chamber looks forward to celebrating the progress\, partnerships\, and momentum shaping Davie County. This is a signature annual event that consistently draws strong attendance from business leaders\, elected officials\, community partners\, and stakeholders across the county and region.</span></p>\n
LOCATION:
UID:e.2378.29508
SEQUENCE:3
DTSTAMP:20260424T105417Z
URL:https://business.daviechamber.com/events/details/56th-chamber-annual-meeting-29508
END:VEVENT

END:VCALENDAR
