BEGIN:VCALENDAR
VERSION:2.0
PRODID:-//ChamberMaster//Event Calendar 2.0//EN
METHOD:PUBLISH
X-PUBLISHED-TTL:P3D
REFRESH-INTERVAL:P3D
CALSCALE:GREGORIAN
BEGIN:VEVENT
DTSTART:20151016T230000Z
DTEND:20151017T020000Z
X-MICROSOFT-CDO-ALLDAYEVENT:FALSE
SUMMARY:5th Annual 3-Hour Zumbathon® to benefit Susan G. Komen NWNC
DESCRIPTION:Join us for the FIFTH ANNUAL THREE HOUR ZUMBATHON  to Benefit Susan G. Komen Northwest NC on FRIDAY\, OCTOBER 16\, 2015\, presented by Women's Wellness & Fitness and Village Inn Event Center! Special Guest Appearance by The DOUBLE DIVAS MOLLY & CYNTHIA!!! Doors open at 6:30pm | Zumba  7pm-10pm Zumba Jammer  Von Stanley Gossi will kick off the 5th Annual Three Hour Zumbathon for SGK NWNC!! This event will feature DJ Dan the Player\, 24 AmaZINing Zumba  Instructors: Helen Naples\,Tina Garner\, Carmen Torres\, Taylor Daggert\, Malysa Rogers\, Tracie York\, Ale Burrone\, Whitney Boger\, Tinia Scott\, Greicy Barahona\, Adi Tsemah\, Gail Cherry\, LaQuinta Sanchez\, Jaiquala Smith\, Paula Castro\, Amalia Grennan\, Tanya Rodriguez\, Nicole Laster\, Katina Rice Jones\, Yuleidy Baldor\, Janae Joyner\, and Solange Ahoudji!! Club Lighting\, Vendors\, T-shirt Cutting with Zumba Tracie\, Door Prizes\, Hors d'oeuvres\, Pink Candy Station\, and soooooo much more!!! 100% of the proceeds will go toward early detection\, treatment and finding a cure for Breast Cancer! Tickets: $15 in advance or $20 at the door
X-ALT-DESC;FMTTYPE=text/html:Join us for the FIFTH ANNUAL THREE HOUR ZUMBATHON&reg\; to Benefit Susan G. Komen Northwest NC on FRIDAY\, OCTOBER 16\, 2015\, presented by Women&#39\;s Wellness &amp\; Fitness and Village Inn Event Center! Special Guest Appearance by The DOUBLE DIVAS MOLLY &amp\; CYNTHIA!!! Doors open at 6:30pm | Zumba&reg\; 7pm-10pm Zumba Jammer&reg\; Von Stanley Gossi will kick off the 5th Annual Three Hour Zumbathon for SGK NWNC!! This event will feature DJ Dan the Player\, 24 AmaZINing Zumba&reg\; Instructors: Helen Naples\,Tina Garner\, Carmen Torres\, Taylor Daggert\, Malysa Rogers\, Tracie York\, Ale Burrone\, Whitney Boger\, Tinia Scott\, Greicy Barahona\, Adi Tsemah\, Gail Cherry\, LaQuinta Sanchez\, Jaiquala Smith\, Paula Castro\, Amalia Grennan\, Tanya Rodriguez\, Nicole Laster\, Katina Rice Jones\, Yuleidy Baldor\, Janae Joyner\, and Solange Ahoudji!! Club Lighting\, Vendors\, T-shirt Cutting with Zumba Tracie\, Door Prizes\, Hors d&#39\;oeuvres\, Pink Candy Station\, and soooooo much more!!! 100% of the proceeds will go toward early detection\, treatment and finding a cure for Breast Cancer! Tickets: $15 in advance or $20 at the door
LOCATION:Village Inn Event Center 6205 Ramada Drive Clemmons NC 27012
UID:e.2378.866
SEQUENCE:3
DTSTAMP:20260423T112343Z
URL:https://business.daviechamber.com/events/details/5th-annual-3-hour-zumbathon-to-benefit-susan-g-komen-nwnc-10-16-2015-866
END:VEVENT

END:VCALENDAR
