BEGIN:VCALENDAR
VERSION:2.0
PRODID:-//ChamberMaster//Event Calendar 2.0//EN
METHOD:PUBLISH
X-PUBLISHED-TTL:P3D
REFRESH-INTERVAL:P3D
CALSCALE:GREGORIAN
BEGIN:VEVENT
DTSTART:20160220T133000Z
DTEND:20160220T170000Z
X-MICROSOFT-CDO-ALLDAYEVENT:FALSE
SUMMARY:5th Annual Popsicle 5K Run
DESCRIPTION:Calling all runners\, joggers\, walkers\, strollers\, and lovers of winter fun-the Annual Popsicle 5K run and you don't want to miss it! The 5th Annual Popsicle 5K Run in Mocksville will be fun for the whole family\, with plenty of food\, games\, and music. The run even received national attention when it was featured in the 2013 Reader's Digest "Best in America" issue as an annual fundraiser for local youth projects that lives up to its chilly name.
X-ALT-DESC;FMTTYPE=text/html:Calling all runners\, joggers\, walkers\, strollers\, and lovers of winter fun-the Annual Popsicle 5K run and you don&#39\;t want to miss it! The 5th Annual Popsicle 5K Run in Mocksville will be fun for the whole family\, with plenty of food\, games\, and music. The run even received national attention when it was featured in the 2013 Reader&#39\;s Digest &quot\;Best in America&quot\; issue as an annual fundraiser for local youth projects that lives up to its chilly name.
LOCATION:Mocksville Elementary School 295 Cemetery St\, Mocksville
UID:e.2378.4546
SEQUENCE:3
DTSTAMP:20260422T013027Z
URL:https://business.daviechamber.com/events/details/5th-annual-popsicle-5k-run-02-20-2016-4546
END:VEVENT

END:VCALENDAR
