BEGIN:VCALENDAR
VERSION:2.0
PRODID:-//ChamberMaster//Event Calendar 2.0//EN
METHOD:PUBLISH
X-PUBLISHED-TTL:P3D
REFRESH-INTERVAL:P3D
CALSCALE:GREGORIAN
BEGIN:VEVENT
DTSTART:20160205T230000Z
DTEND:20160206T030000Z
X-MICROSOFT-CDO-ALLDAYEVENT:FALSE
SUMMARY:5th Annual Upscale Hoedown @ Winmock
DESCRIPTION:5th Annual Upscale Hoedown Benefiting Smart Start of Davie County!  Dollars raised at last year's event enabled:\n\n	1673 children to receive books\n	 84 children to receive PAT services\n	 15 teen parents to receive PAT services\n	 1894 children\, parents\, & providers to be reached\n\nWith your help these children are getting a Smart Start!
X-ALT-DESC;FMTTYPE=text/html:5th Annual Upscale Hoedown Benefiting Smart Start of Davie County!&nbsp\; Dollars raised at last year&#39\;s event enabled:\n<ul>\n	<li>1673 children to receive books</li>\n	<li>&nbsp\;84 children to receive PAT services</li>\n	<li>&nbsp\;15 teen parents to receive PAT services</li>\n	<li>&nbsp\;1894 children\, parents\, &amp\; providers to be reached</li>\n</ul>\nWith your help these children are getting a Smart Start!
LOCATION:WinMock Barn at Kinderton 168 E Kinderton Way\, Bermuda Run\, NC 27006
UID:e.2378.939
SEQUENCE:3
DTSTAMP:20260423T070231Z
URL:https://business.daviechamber.com/events/details/5th-annual-upscale-hoedown-winmock-02-05-2016-939
END:VEVENT

END:VCALENDAR
