BEGIN:VCALENDAR
VERSION:2.0
PRODID:-//ChamberMaster//Event Calendar 2.0//EN
METHOD:PUBLISH
X-PUBLISHED-TTL:P3D
REFRESH-INTERVAL:P3D
CALSCALE:GREGORIAN
BEGIN:VEVENT
DTSTART:20170602T170000Z
DTEND:20170602T170000Z
X-MICROSOFT-CDO-ALLDAYEVENT:FALSE
SUMMARY:6th Annual Davie County 4-H Golf Tournament
DESCRIPTION:Player fee includes greens and cart fees\, goody bag\, longest drive contest\, closest to the pin contest and lunch. Lunch will be served at 12:00 pm.\n\n\n\nProceeds will support Davie County 4-H programs\, including: Summer Fun\, Summer 4-H Camp\, 4-H Clubs\, Embryology\, Educational Trips & much more!
X-ALT-DESC;FMTTYPE=text/html:Player fee includes greens and cart fees\, goody bag\, longest drive contest\, closest to the pin contest and lunch. Lunch will be served at 12:00 pm.<br />\n<br />\nProceeds will support Davie County 4-H programs\, including: Summer Fun\, Summer 4-H Camp\, 4-H Clubs\, Embryology\, Educational Trips &amp\; much more!
LOCATION:Pudding Ridge Golf Course 224 Cornwallis Dr Mocksville\, NC 27028
UID:e.2378.11578
SEQUENCE:3
DTSTAMP:20260422T072601Z
URL:https://business.daviechamber.com/events/details/6th-annual-davie-county-4-h-golf-tournament-11578
END:VEVENT

END:VCALENDAR
