BEGIN:VCALENDAR
VERSION:2.0
PRODID:-//ChamberMaster//Event Calendar 2.0//EN
METHOD:PUBLISH
X-PUBLISHED-TTL:P3D
REFRESH-INTERVAL:P3D
CALSCALE:GREGORIAN
BEGIN:VEVENT
DTSTART:20161021T230000Z
DTEND:20161022T020000Z
X-MICROSOFT-CDO-ALLDAYEVENT:FALSE
SUMMARY:6th Annual Party In Pink Zumbathon
DESCRIPTION:Join us for the 6TH ANNUAL 3-HOUR PARTY IN PINK ZUMBATHON  to Benefit Susan G. Komen Northwest NC on FRIDAY\, OCTOBER 21\, 2016\, presented by Women's Wellness & Fitness\, Studio ZT and Village Inn Event Center! Doors open at 6:30pm | Zumba  7pm-10pm Zumba Jammer  Von Stanley Gossi will kick off the 6th Annual Three Hour Zumbathon for SGK NWNC!! This event will feature DJ Dan the Player\, 20 AmaZINg Licensed Zumba  Instructors: Zumba Jammer  Von Stanley Gossi\, Carmen Torres\, Taylor Daggert\, Malysa Rogers\, Summer Smith\, Gail Cherry\, Jaiquala Smith\, Paula Castro\, Tanya Garanzuay\, Yuleidy Baldor\, Jami Waszczeniuk\, Jenny Murray\, Yolanda Hairston\, Vanessa Pettis\, Paula Aeugle\, Claudia Henry\, Gaby Hurtado\, Amy Cheney\, Tina Garner\, and Bonita Harmel!! Club Lighting\, Vendors\, T-shirt Cutting by the #ScissorSquad\, Door Prizes\, Hors d'oeuvres\, Pink Candy Station\, Silent Auction\, and soooooo much more!!!
X-ALT-DESC;FMTTYPE=text/html:Join us for the 6TH ANNUAL 3-HOUR PARTY IN PINK ZUMBATHON&reg\; to Benefit Susan G. Komen Northwest NC on FRIDAY\, OCTOBER 21\, 2016\, presented by Women&#39\;s Wellness &amp\; Fitness\, Studio ZT and Village Inn Event Center! Doors open at 6:30pm | Zumba&reg\; 7pm-10pm Zumba Jammer&reg\; Von Stanley Gossi will kick off the 6th Annual Three Hour Zumbathon for SGK NWNC!! This event will feature DJ Dan the Player\, 20 AmaZINg Licensed Zumba&reg\; Instructors: Zumba Jammer&reg\; Von Stanley Gossi\, Carmen Torres\, Taylor Daggert\, Malysa Rogers\, Summer Smith\, Gail Cherry\, Jaiquala Smith\, Paula Castro\, Tanya Garanzuay\, Yuleidy Baldor\, Jami Waszczeniuk\, Jenny Murray\, Yolanda Hairston\, Vanessa Pettis\, Paula Aeugle\, Claudia Henry\, Gaby Hurtado\, Amy Cheney\, Tina Garner\, and Bonita Harmel!! Club Lighting\, Vendors\, T-shirt Cutting by the #ScissorSquad\, Door Prizes\, Hors d&#39\;oeuvres\, Pink Candy Station\, Silent Auction\, and soooooo much more!!!
LOCATION:Village Inn Event Center 6205 Ramada Drive Clemmons\, NC 27012
UID:e.2378.9134
SEQUENCE:3
DTSTAMP:20260422T191156Z
URL:https://business.daviechamber.com/events/details/6th-annual-party-in-pink-zumbathon-9134
END:VEVENT

END:VCALENDAR
