BEGIN:VCALENDAR
VERSION:2.0
PRODID:-//ChamberMaster//Event Calendar 2.0//EN
METHOD:PUBLISH
X-PUBLISHED-TTL:P3D
REFRESH-INTERVAL:P3D
CALSCALE:GREGORIAN
BEGIN:VEVENT
DTSTART:20250412T233000Z
DTEND:20250412T233000Z
X-MICROSOFT-CDO-ALLDAYEVENT:FALSE
SUMMARY:70s Rock Revival -Troubadour Project
DESCRIPTION:The Troubadour Project faithfully recreates all the sounds\, vibe\, and essence of the most iconic rock bands from the 1970s\, delivered by world class musicians and vocalists. From Led Zeppelin\, The Who\, The Eagles\, Wings\, Heart\, to Tom Petty\, Fleetwood Mac\, Peter Frampton and ELO\, these ARE the artists that created the soundtrack of our lives. The band features touring musicians from Sugarland\, Jennifer Nettles\, Sheryl Crow\, Noel Gallagher\, Elton Live and More. This concert will be a first class ticket back to the greatest decade of rock and roll.
X-ALT-DESC;FMTTYPE=text/html:The Troubadour Project faithfully recreates all the sounds\, vibe\, and essence of the most iconic rock bands from the 1970s\, delivered by world class musicians and vocalists. From Led Zeppelin\, The Who\, The Eagles\, Wings\, Heart\, to Tom Petty\, Fleetwood Mac\, Peter Frampton and ELO\, these ARE the artists that created the soundtrack of our lives. The band features touring musicians from Sugarland\, Jennifer Nettles\, Sheryl Crow\, Noel Gallagher\, Elton Live and More. This concert will be a first class ticket back to the greatest decade of rock and roll.
LOCATION:Brock Performing Arts Center
UID:e.2378.24517
SEQUENCE:3
DTSTAMP:20260426T021506Z
URL:https://business.daviechamber.com/events/details/70s-rock-revival-troubadour-project-24517
END:VEVENT

END:VCALENDAR
