BEGIN:VCALENDAR
VERSION:2.0
PRODID:-//ChamberMaster//Event Calendar 2.0//EN
METHOD:PUBLISH
X-PUBLISHED-TTL:P3D
REFRESH-INTERVAL:P3D
CALSCALE:GREGORIAN
BEGIN:VEVENT
DTSTART:20170210T233000Z
DTEND:20170211T050000Z
X-MICROSOFT-CDO-ALLDAYEVENT:FALSE
SUMMARY:7th Annual Share the Love - Stayin' Alive
DESCRIPTION:The Dragonfly House Children's Advocacy Center is entering this year with a bang as they celebrate their 7th Annual Share the Love gala at WinMock at Kinderton in Bermuda Run\, NC on February 10\, 2017.\n\nEach year this event raises the funds necessary to continue providing services for the hundreds of abused and neglected children in our region. \n\nThis year's theme is a tribute to the 1970's disco era\, and will feature an all-out celebration atmosphere with music\, dancing\, live & silent auctions\, cocktails and station style cuisine drawn directly from the days of Saturday Night Fever. Sponsors and guests are encouraged to wear party attire from the disco days and get ready to boogie all night long!\n\n\n\nHolly Tate Fine Catering | On Target DJ | Jon Manring\, Manring Auctions
X-ALT-DESC;FMTTYPE=text/html:The Dragonfly House Children&#39\;s&nbsp\;Advocacy Center is entering this year with a bang as they celebrate their 7th Annual Share the Love gala at WinMock at Kinderton in Bermuda Run\, NC on February 10\, 2017.<br />\nEach year this event raises the funds necessary to continue providing services for the hundreds of abused and neglected children in our region.&nbsp\;<br />\nThis year&#39\;s theme is a tribute to the 1970&#39\;s disco era\, and will feature an all-out celebration atmosphere with music\, dancing\, live &amp\; silent auctions\, cocktails and station style cuisine drawn directly from the days of Saturday Night Fever. Sponsors and guests are encouraged to wear party attire from the disco days and get ready to boogie all night long!<br />\n<br />\nHolly Tate Fine Catering |&nbsp\;On Target DJ | Jon Manring\, Manring&nbsp\;Auctions
LOCATION:WinMock at Kinderton 168 E Kinderton Way Bermuda Run\, 27006
UID:e.2378.10163
SEQUENCE:3
DTSTAMP:20260422T112515Z
URL:https://business.daviechamber.com/events/details/7th-annual-share-the-love-stayin-alive-10163
END:VEVENT

END:VCALENDAR
