BEGIN:VCALENDAR
VERSION:2.0
PRODID:-//ChamberMaster//Event Calendar 2.0//EN
METHOD:PUBLISH
X-PUBLISHED-TTL:P3D
REFRESH-INTERVAL:P3D
CALSCALE:GREGORIAN
BEGIN:VEVENT
DTSTART:20230728T220000Z
DTEND:20230729T000000Z
X-MICROSOFT-CDO-ALLDAYEVENT:FALSE
SUMMARY:80's Themed Mystery Dinner Theater for Teens
DESCRIPTION:CALLING ALL TEENS (Middle/High School Ages): We still have spaces available for our upcoming FREE Mystery Dinner Theater on Friday\, July 28th @ 6PM~\n\nRead the details below about this fun event (pizza dinner provided!!) and Register here: https://bit.ly/MMT80\n\nIt's 1988\, and the Podunk Roller Rink is filled with teens showing off their shoulder pads and mullets\,but it's a strangely-assorted group. They ignore each other as much as possible and they seem resentful\, almost like they're here in detention. And why are the cool kids\, the loners\, and the nerds all here together\, skating dully in a circle?\n\nThe people watching from the sidelines are equally mismatched: the rink employees\, tired of renting skates and selling hot dogs\; the retired roller derby pros\, bored by the lack of violence\; and the town prudes\, obsessed with the possibility that the teens might start enjoying themselves or even worse\, dancing.\n\nSuddenly\, there is a scream. The body of Kevin Floosey\, the new kid in town\, has been found in the back hallway. It looks like someone strangled him with a leg warmer. Who could have done such a terrible thing to a guy who just wanted to dance  or is that really all he wanted?\n\nWho knows? Maybe YOU killed him!
X-ALT-DESC;FMTTYPE=text/html:<div class="xdj266r x11i5rnm xat24cr x1mh8g0r x1vvkbs" style="margin: 0px\; overflow-wrap: break-word\; font-family: &quot\;Segoe UI Historic&quot\;\, &quot\;Segoe UI&quot\;\, Helvetica\, Arial\, sans-serif\; color: rgb(5\, 5\, 5)\; font-size: 15px\;"><span style="font-size:16px\;"><span style="font-family:tahoma\;"><span style="color:#333333\;">CALLING ALL TEENS (Middle/High School Ages): We still have spaces available for our upcoming FREE Mystery Dinner Theater on Friday\, July 28th @ 6PM~<br />\nRead the details below about this fun event (pizza dinner provided!!) and Register here:&nbsp\;</span><u><strong><a class="x1i10hfl xjbqb8w x6umtig x1b1mbwd xaqea5y xav7gou x9f619 x1ypdohk xt0psk2 xe8uvvx xdj266r x11i5rnm xat24cr x1mh8g0r xexx8yu x4uap5 x18d9i69 xkhd6sd x16tdsg8 x1hl2dhg xggy1nq x1a2a7pz xt0b8zv x1fey0fg" href="https://bit.ly/MMT80" rel="nofollow noreferrer" role="link" style="color: var(--blue-link)\; cursor: pointer\; text-decoration-line: none\; border-width: 0px\; border-style: initial\; border-color: initial\; outline: none\; list-style: none\; margin: 0px\; text-align: inherit\; padding: 0px\; -webkit-tap-highlight-color: transparent\; box-sizing: border-box\; touch-action: manipulation\; background-color: transparent\; display: inline\; font-family: inherit\;" tabindex="0" target="_blank"><span style="color:#333333\;">https://bit.ly/MMT80</span></a></strong></u></span></span></div>\n\n<div class="x11i5rnm xat24cr x1mh8g0r x1vvkbs xtlvy1s" style="margin: 0.5em 0px 0px\; overflow-wrap: break-word\; font-family: &quot\;Segoe UI Historic&quot\;\, &quot\;Segoe UI&quot\;\, Helvetica\, Arial\, sans-serif\; color: rgb(5\, 5\, 5)\; font-size: 15px\;"><span style="font-size:16px\;"><span style="font-family:tahoma\;"><span style="color:#333333\;">It&rsquo\;s 1988\, and the Podunk Roller Rink is filled with teens showing off their shoulder pads and mullets\,but it&rsquo\;s a strangely-assorted group. They ignore each other as much as possible and they seem resentful\, almost like they&rsquo\;re here in detention. And why are the cool kids\, the loners\, and the nerds all here together\, skating dully in a circle?</span></span></span></div>\n\n<div class="x11i5rnm xat24cr x1mh8g0r x1vvkbs xtlvy1s" style="margin: 0.5em 0px 0px\; overflow-wrap: break-word\; font-family: &quot\;Segoe UI Historic&quot\;\, &quot\;Segoe UI&quot\;\, Helvetica\, Arial\, sans-serif\; color: rgb(5\, 5\, 5)\; font-size: 15px\;"><span style="font-size:16px\;"><span style="font-family:tahoma\;"><span style="color:#333333\;">The people watching from the sidelines are equally mismatched: the rink employees\, tired of renting skates and selling hot dogs\; the retired roller derby pros\, bored by the lack of violence\; and the town prudes\, obsessed with the possibility that the teens might start enjoying themselves or even worse\, dancing.</span></span></span></div>\n\n<div class="x11i5rnm xat24cr x1mh8g0r x1vvkbs xtlvy1s" style="margin: 0.5em 0px 0px\; overflow-wrap: break-word\; font-family: &quot\;Segoe UI Historic&quot\;\, &quot\;Segoe UI&quot\;\, Helvetica\, Arial\, sans-serif\; color: rgb(5\, 5\, 5)\; font-size: 15px\;"><span style="font-size:16px\;"><span style="font-family:tahoma\;"><span style="color:#333333\;">Suddenly\, there is a scream. The body of Kevin Floosey\, the new kid in town\, has been found in the back hallway. It looks like someone strangled him with a leg warmer. Who could have done such a terrible thing to a guy who just wanted to dance&hellip\; or is that really all he wanted?</span></span></span></div>\n\n<div class="x11i5rnm xat24cr x1mh8g0r x1vvkbs xtlvy1s" style="margin: 0.5em 0px 0px\; overflow-wrap: break-word\; font-family: &quot\;Segoe UI Historic&quot\;\, &quot\;Segoe UI&quot\;\, Helvetica\, Arial\, sans-serif\; color: rgb(5\, 5\, 5)\; font-size: 15px\;"><span style="font-size:16px\;"><span style="font-family:tahoma\;"><span style="color:#333333\;">Who knows? Maybe YOU killed him!</span></span></span></div>\n
LOCATION:Davie County Public Library
UID:e.2378.23123
SEQUENCE:3
DTSTAMP:20260425T214955Z
URL:https://business.daviechamber.com/events/details/80-s-themed-mystery-dinner-theater-for-teens-23123
END:VEVENT

END:VCALENDAR
