BEGIN:VCALENDAR
VERSION:2.0
PRODID:-//ChamberMaster//Event Calendar 2.0//EN
METHOD:PUBLISH
X-PUBLISHED-TTL:P3D
REFRESH-INTERVAL:P3D
CALSCALE:GREGORIAN
BEGIN:VEVENT
DTSTART:20180420T223000Z
DTEND:20180421T023000Z
X-MICROSOFT-CDO-ALLDAYEVENT:FALSE
SUMMARY:8th Annual Share The Love - The Dragonfly House
DESCRIPTION:It's time to get dolled up and walk the red carpet... Tickets for 8th Annual "Olde Hollywood" theme Share the Love Gala are on sale now! Get yours today\, as space IS LIMITED this year. \n\nEach event ticket includes dinner\, two free drink tickets (additional drink tickets will be for sale at the event)\, DJ with dancing\, photo booth\, an awards show - where you will also get to pick some of the nights winners\, and both a live and silent auction. There are multiple sponsorship levels available\, most of which include event tickets through the sponsor level. \n\n\n\nDon't wait around - tickets will go fast and we want YOU to be there! \n\n\n\nPurchase your tickets or sponsorship here: http://weblink.donorperfect.com/ShareTheLoveGala\n\n\n\nCurious about what "Olde Hollywood" actually is? Also called Hollywood's Golden Era\, this time frame includes Films and TV Shows from the 1930s-1960s\; Here is a link to the most famous actors\, actresses\, and movies from this era: http://www.hollywoodsgoldenage.com/
X-ALT-DESC;FMTTYPE=text/html:<span style="color: rgb(29\, 33\, 41)\; font-family: Helvetica\, Arial\, sans-serif\; font-size: 14px\; font-style: normal\; font-variant-ligatures: normal\; font-variant-caps: normal\; font-weight: 400\; letter-spacing: normal\; orphans: 2\; text-align: left\; text-indent: 0px\; text-transform: none\; white-space: normal\; widows: 2\; word-spacing: 0px\; -webkit-text-stroke-width: 0px\; background-color: rgb(255\, 255\, 255)\; text-decoration-style: initial\; text-decoration-color: initial\; display: inline !important\; float: none\;">It&#39\;s time to get dolled up and walk the red carpet... Tickets for 8th Annual &quot\;Olde Hollywood&quot\; theme Share the Love Gala are on sale now! Get yours today\, as space IS LIMITED this year.<span>&nbsp\;</span></span><br style="color: rgb(29\, 33\, 41)\; font-family: Helvetica\, Arial\, sans-serif\; font-size: 14px\; font-style: normal\; font-variant-ligatures: normal\; font-variant-caps: normal\; font-weight: 400\; letter-spacing: normal\; orphans: 2\; text-align: left\; text-indent: 0px\; text-transform: none\; white-space: normal\; widows: 2\; word-spacing: 0px\; -webkit-text-stroke-width: 0px\; background-color: rgb(255\, 255\, 255)\; text-decoration-style: initial\; text-decoration-color: initial\;" />\n<span style="color: rgb(29\, 33\, 41)\; font-family: Helvetica\, Arial\, sans-serif\; font-size: 14px\; font-style: normal\; font-variant-ligatures: normal\; font-variant-caps: normal\; font-weight: 400\; letter-spacing: normal\; orphans: 2\; text-align: left\; text-indent: 0px\; text-transform: none\; white-space: normal\; widows: 2\; word-spacing: 0px\; -webkit-text-stroke-width: 0px\; background-color: rgb(255\, 255\, 255)\; text-decoration-style: initial\; text-decoration-color: initial\; display: inline !important\; float: none\;">Each event ticket includes dinner\, two free drink tickets (additional drink tickets will be for sale at the event)\, DJ with dancing\, photo booth\, an awards show - where you will also get to pick some of the nights</span><span class="text_exposed_show" style="display: inline\; font-family: Helvetica\, Arial\, sans-serif\; color: rgb(29\, 33\, 41)\; font-size: 14px\; font-style: normal\; font-variant-ligatures: normal\; font-variant-caps: normal\; font-weight: 400\; letter-spacing: normal\; orphans: 2\; text-align: left\; text-indent: 0px\; text-transform: none\; white-space: normal\; widows: 2\; word-spacing: 0px\; -webkit-text-stroke-width: 0px\; background-color: rgb(255\, 255\, 255)\; text-decoration-style: initial\; text-decoration-color: initial\;"><span>&nbsp\;</span>winners\, and both a live and silent auction. There are multiple sponsorship levels available\, most of which include event tickets through the sponsor level.<span>&nbsp\;</span><br />\n<br />\nDon&#39\;t wait around - tickets will go fast and we want YOU to be there!<span>&nbsp\;</span><br />\n<br />\nPurchase your tickets or sponsorship here:<span>&nbsp\;</span><a data-lynx-mode="async" data-lynx-uri="https://l.facebook.com/l.php?u=http%3A%2F%2Fweblink.donorperfect.com%2FShareTheLoveGala&amp\;h=ATN3Tcv_e2s2u5NfUPliWg3r-F3aviCv1tmkCawAg5D4Pl8ePPSgVN3N5mH6jy1pfCBFm6fVkFrtCT2NvHGhyPcPy0GULNS1dYCv596aKW4X-JldYqanAqahfTaKrZ3xQM89D-jz9NQid16EMEXvWYdemPT5VpScsWHilu1_MteSSrWZSbWGbyIFOjIPsIr0421qw9Xe8vgtT9FX5hQcx_BTIBRyGnyKbRwjZoZvfMiYSgMUDCkn" href="http://weblink.donorperfect.com/ShareTheLoveGala" rel="nofollow noopener" style="color: rgb(54\, 88\, 153)\; cursor: pointer\; text-decoration: none\; font-family: inherit\;" target="_blank"><span style="font-family: inherit\;">http://</span><wbr /><span style="font-family: inherit\;">weblink.donorperfect.com/</span><wbr />ShareTheLoveGala</a><br />\n<br />\nCurious about what &quot\;Olde Hollywood&quot\; actually is? Also called Hollywood&#39\;s Golden Era\, this time frame includes Films and TV Shows from the 1930s-1960s\; Here is a link to the most famous actors\, actresses\, and movies from this era:<span>&nbsp\;</span><a data-lynx-mode="async" data-lynx-uri="https://l.facebook.com/l.php?u=http%3A%2F%2Fwww.hollywoodsgoldenage.com%2F&amp\;h=ATOazvE4Rr5vr7-TKubuj7XaF1_JlkLsZHNmPUrxkAbgYT0UjjczhTf2zfhJI6vB8pOwIrHabIuwNjtBsonDhjv_VcJYyvegCHnXLpsXZ5g8XEJPAYmguLWai7hKDNiTQegNu6AqN4AgMCAtCxfdkPfsKttybFWTo4OwY7HYFFCB2iKYBnuTi1V7qQmMWsEqGzuUdAAizS8xLP5XiqqPc3Ux77wgnzbTtEVcMuLl7_yK04__EeTD" href="http://www.hollywoodsgoldenage.com/" rel="nofollow noopener" style="color: rgb(54\, 88\, 153)\; cursor: pointer\; text-decoration: none\; font-family: inherit\;" target="_blank"><span style="font-family: inherit\;">http://</span><wbr /><span style="font-family: inherit\;">www.hollywoodsgoldenage.com</span><wbr />/</a></span>
LOCATION:Triple J Manor House
UID:e.2378.13316
SEQUENCE:3
DTSTAMP:20260421T155215Z
URL:https://business.daviechamber.com/events/details/8th-annual-share-the-love-the-dragonfly-house-13316
END:VEVENT

END:VCALENDAR
