BEGIN:VCALENDAR
VERSION:2.0
PRODID:-//ChamberMaster//Event Calendar 2.0//EN
METHOD:PUBLISH
X-PUBLISHED-TTL:P3D
REFRESH-INTERVAL:P3D
CALSCALE:GREGORIAN
BEGIN:VEVENT
DTSTART:20230701T230000Z
DTEND:20230702T020000Z
X-MICROSOFT-CDO-ALLDAYEVENT:FALSE
SUMMARY:90's Country Karaoke w/ DJ Fish
DESCRIPTION:Come sing the Best of 90's country music and listen to the Best 90's mixes in between!
X-ALT-DESC;FMTTYPE=text/html:<span style="font-family:arial\;"><span style="font-size:16px\;"><span style="color:#000000\;">Come sing the Best of 90&#39\;s country music and listen to the Best 90&#39\;s mixes in between!</span></span></span>
LOCATION:The Station
UID:e.2378.23024
SEQUENCE:3
DTSTAMP:20260425T215012Z
URL:https://business.daviechamber.com/events/details/90-s-country-karaoke-w-dj-fish-23024
END:VEVENT

END:VCALENDAR
