BEGIN:VCALENDAR
VERSION:2.0
PRODID:-//ChamberMaster//Event Calendar 2.0//EN
METHOD:PUBLISH
X-PUBLISHED-TTL:P3D
REFRESH-INTERVAL:P3D
CALSCALE:GREGORIAN
BEGIN:VEVENT
DTSTART:20180310T170000Z
DTEND:20180310T210000Z
X-MICROSOFT-CDO-ALLDAYEVENT:FALSE
SUMMARY:90's Dog & Puppy Party!
DESCRIPTION:Bring your pet and join us for a party at the Foothills Brewing Tasting Room. Enjoy fly 90s music\, games\, and some pawesome pups from the Humane Society of Davie County. It will be all that and a bag of chips! Please bring leashed\, vaccinated\, and friendly pets only! \n\n\n\nHSDC will be collecting items off our wish-list. Please support us! Items: paper towels\, dog food\, cat food\, dog and cat toys\, scoopable cat litter\, peanut butter\, treats\, and toilet paper.
X-ALT-DESC;FMTTYPE=text/html:<span style="color: rgb(75\, 79\, 86)\; font-family: Helvetica\, Arial\, sans-serif\; font-size: 14px\; font-style: normal\; font-variant-ligatures: normal\; font-variant-caps: normal\; font-weight: 400\; letter-spacing: normal\; orphans: 2\; text-align: start\; text-indent: 0px\; text-transform: none\; white-space: normal\; widows: 2\; word-spacing: 0px\; -webkit-text-stroke-width: 0px\; background-color: rgb(255\, 255\, 255)\; text-decoration-style: initial\; text-decoration-color: initial\; display: inline !important\; float: none\;">Bring your pet and join us for a party at the Foothills Brewing Tasting Room. Enjoy fly 90s music\, games\, and some pawesome pups from the Humane Society of Davie County. It will be all that and a bag of chips! Please bring leashed\, vaccinated\, and friendly pets only!<span>&nbsp\;</span></span><br style="color: rgb(75\, 79\, 86)\; font-family: Helvetica\, Arial\, sans-serif\; font-size: 14px\; font-style: normal\; font-variant-ligatures: normal\; font-variant-caps: normal\; font-weight: 400\; letter-spacing: normal\; orphans: 2\; text-align: start\; text-indent: 0px\; text-transform: none\; white-space: normal\; widows: 2\; word-spacing: 0px\; -webkit-text-stroke-width: 0px\; background-color: rgb(255\, 255\, 255)\; text-decoration-style: initial\; text-decoration-color: initial\;" />\n<br style="color: rgb(75\, 79\, 86)\; font-family: Helvetica\, Arial\, sans-serif\; font-size: 14px\; font-style: normal\; font-variant-ligatures: normal\; font-variant-caps: normal\; font-weight: 400\; letter-spacing: normal\; orphans: 2\; text-align: start\; text-indent: 0px\; text-transform: none\; white-space: normal\; widows: 2\; word-spacing: 0px\; -webkit-text-stroke-width: 0px\; background-color: rgb(255\, 255\, 255)\; text-decoration-style: initial\; text-decoration-color: initial\;" />\n<span style="color: rgb(75\, 79\, 86)\; font-family: Helvetica\, Arial\, sans-serif\; font-size: 14px\; font-style: normal\; font-variant-ligatures: normal\; font-variant-caps: normal\; font-weight: 400\; letter-spacing: normal\; orphans: 2\; text-align: start\; text-indent: 0px\; text-transform: none\; white-space: normal\; widows: 2\; word-spacing: 0px\; -webkit-text-stroke-width: 0px\; background-color: rgb(255\, 255\, 255)\; text-decoration-style: initial\; text-decoration-color: initial\; display: inline !important\; float: none\;">HSDC will be collecting items off our wish-list. Please support us! Items: paper towels\, dog food\, cat food\, dog and cat toys\, scoopable cat litter\, peanut butter\, treats\, and toilet paper.</span>
LOCATION:Foothills Brewing 3800 Kimwell Drive Winston-Salem\, NC 27103
UID:e.2378.13594
SEQUENCE:3
DTSTAMP:20260421T164813Z
URL:https://business.daviechamber.com/events/details/90-s-dog-puppy-party-13594
END:VEVENT

END:VCALENDAR
