BEGIN:VCALENDAR
VERSION:2.0
PRODID:-//ChamberMaster//Event Calendar 2.0//EN
METHOD:PUBLISH
X-PUBLISHED-TTL:P3D
REFRESH-INTERVAL:P3D
CALSCALE:GREGORIAN
BEGIN:VEVENT
DTSTART:20150808T150000Z
DTEND:20150808T230000Z
X-MICROSOFT-CDO-ALLDAYEVENT:FALSE
SUMMARY:A.L.S. Charity Event @Junker's Mill
DESCRIPTION:A.L.S. Charity Event for Terry White "Bus White"\n\nFood\, Fun\, and Entertainment for adults and kids!\n\nThere will also be a raffle @ 6:00 pm.\n\n1st prize - 42" TV\n\n2nd prize - $100 Walmart Gift Card\n\n3rd prize - $50 Gas Card\n\nTickets are also being sold for chicken or fish plates with 2 sides\, drink & desert for $10.  Hotdog plates with chips and drinks $3.  Fish and chicken sandwiches $3.50.  Chips$.50.  Drinks $1.  Vendors are also welcome with a $25 registration fee. For more information please contact Daniel Brown 336-251-3832 or Eric Blount 336-751-1881
X-ALT-DESC;FMTTYPE=text/html:A.L.S. Charity Event for Terry White &quot\;Bus White&quot\;<br />\nFood\, Fun\, and Entertainment for adults and kids!<br />\nThere will also be a raffle @ 6:00 pm.<br />\n1st prize - 42&quot\; TV<br />\n2nd prize - $100 Walmart Gift Card<br />\n3rd prize - $50 Gas Card<br />\nTickets are also being sold for chicken or fish plates with 2 sides\, drink &amp\; desert for $10. &nbsp\;Hotdog plates with chips and drinks $3. &nbsp\;Fish and chicken sandwiches $3.50. &nbsp\;Chips$.50. &nbsp\;Drinks $1. &nbsp\;Vendors are also welcome with a $25 registration fee. For more information please contact Daniel Brown 336-251-3832 or Eric Blount 336-751-1881
LOCATION:Junker's Mill Mocksville\, NC
UID:e.2378.901
SEQUENCE:3
DTSTAMP:20260423T152624Z
URL:https://business.daviechamber.com/events/details/a-l-s-charity-event-junker-s-mill-08-08-2015-901
END:VEVENT

END:VCALENDAR
