BEGIN:VCALENDAR
VERSION:2.0
PRODID:-//ChamberMaster//Event Calendar 2.0//EN
METHOD:PUBLISH
X-PUBLISHED-TTL:P3D
REFRESH-INTERVAL:P3D
CALSCALE:GREGORIAN
BEGIN:VEVENT
DTSTART:20230309T210000Z
DTEND:20230309T220000Z
X-MICROSOFT-CDO-ALLDAYEVENT:FALSE
SUMMARY:A Taste of Science: Fruit Salad and Food Exploration
DESCRIPTION:Hey\, Kindergarten-Second Graders! Do you ever wonder where your food comes from? Did you know that we eat plants and seeds every day? Come to Cognition to learn all about fruits and veggies while making a delicious fruit salad!\n\n\n\nGET TICKETS
X-ALT-DESC;FMTTYPE=text/html:<div class="x1e56ztr x1xmf6yo" style="margin-bottom: 8px\; margin-top: 8px\; font-family: &quot\;Segoe UI Historic&quot\;\, &quot\;Segoe UI&quot\;\, Helvetica\, Arial\, sans-serif\; color: rgb(28\, 30\, 33)\; font-size: 12px\;">\n<h1 class="x1heor9g x1qlqyl8 x1pd3egz x1a2a7pz x193iq5w xeuugli" dir="auto" style="color: inherit\; font-size: inherit\; font-weight: inherit\; margin: 0px\; padding: 0px\; max-width: 100%\; outline: none\; min-width: 0px\; font-family: inherit\;"><span style="font-size:16px\;"><span style="font-family:tahoma\;">Hey\, Kindergarten-Second Graders! Do you ever wonder where your food comes from? Did you know that we eat plants and seeds every day? Come to Cognition to learn all about fruits and veggies while making a delicious fruit salad!</span></span></h1>\n\n<div dir="auto"><br />\n<span style="font-size:16px\;"><span style="font-family:tahoma\;"><u><strong><a href="https://cognitiondavie.ticketing.veevartapp.com/tickets/view/list/a-taste-of-science-fruit-salad-and-food-exploration?fbclid=IwAR0LzAuRrHO1eVqmikQnS8GbgL0IkRaOZzK-ndQoA50UA1YXv_hmy2p7xpg">GET TICKETS</a></strong></u></span></span></div>\n</div>\n
LOCATION:Cognition Davie
UID:e.2378.22771
SEQUENCE:3
DTSTAMP:20260424T103936Z
URL:https://business.daviechamber.com/events/details/a-taste-of-science-fruit-salad-and-food-exploration-22771
END:VEVENT

END:VCALENDAR
