BEGIN:VCALENDAR
VERSION:2.0
PRODID:-//ChamberMaster//Event Calendar 2.0//EN
METHOD:PUBLISH
X-PUBLISHED-TTL:P3D
REFRESH-INTERVAL:P3D
CALSCALE:GREGORIAN
BEGIN:VEVENT
DTSTART:20230815T180000Z
DTEND:20230815T190000Z
X-MICROSOFT-CDO-ALLDAYEVENT:FALSE
SUMMARY:A Taste of Science: Ice Cream Making
DESCRIPTION:Calling all kiddos 8-11 years old! Come explore phase change and energy exchange with the sweetest treat! What better way to learn about why things melt and freeze than with homemade ice cream?!
X-ALT-DESC;FMTTYPE=text/html:<span style="font-size:18px\;"><span style="font-family:tahoma\;"><span style="color:#333333\;">Calling all kiddos 8-11 years old! Come explore phase change and energy exchange with the sweetest treat! What better way to learn about why things melt and freeze than with homemade ice cream?!</span></span></span>
LOCATION:
UID:e.2378.23165
SEQUENCE:3
DTSTAMP:20260425T201608Z
URL:https://business.daviechamber.com/events/details/a-taste-of-science-ice-cream-making-23165
END:VEVENT

END:VCALENDAR
