BEGIN:VCALENDAR
VERSION:2.0
PRODID:-//ChamberMaster//Event Calendar 2.0//EN
METHOD:PUBLISH
X-PUBLISHED-TTL:P3D
REFRESH-INTERVAL:P3D
CALSCALE:GREGORIAN
BEGIN:VEVENT
DTSTART:20230830T220000Z
DTEND:20230831T000000Z
X-MICROSOFT-CDO-ALLDAYEVENT:FALSE
SUMMARY:Adult's Night Out: Paper Bead Jewelry
DESCRIPTION:Join us for a fun Wine & DIY evening of paper bead jewelry making! Bring some friends and your drink of choice\, leave with beautiful jewelry!
X-ALT-DESC;FMTTYPE=text/html:<span style="font-size:18px\;"><span style="font-family:tahoma\;"><span style="color:#333333\;">Join us for a fun Wine &amp\; DIY evening of paper bead jewelry making! Bring some friends and your drink of choice\, leave with beautiful jewelry!</span></span></span>
LOCATION:Cognition Davie
UID:e.2378.23191
SEQUENCE:3
DTSTAMP:20260425T201931Z
URL:https://business.daviechamber.com/events/details/adult-s-night-out-paper-bead-jewelry-23191
END:VEVENT

END:VCALENDAR
