BEGIN:VCALENDAR
VERSION:2.0
PRODID:-//ChamberMaster//Event Calendar 2.0//EN
METHOD:PUBLISH
X-PUBLISHED-TTL:P3D
REFRESH-INTERVAL:P3D
CALSCALE:GREGORIAN
BEGIN:VEVENT
DTSTART:20180616T140000Z
DTEND:20180616T180000Z
X-MICROSOFT-CDO-ALLDAYEVENT:FALSE
SUMMARY:Advance Community Festival
DESCRIPTION:Vendors\, Food\, Activities\, Silent Auction\, Demos\, and MORE. Proceeds will go to Firefighter family--mother has been diagnosed with IIH. 2nd annual event. Lots of free activities. Great family fun !!
X-ALT-DESC;FMTTYPE=text/html:Vendors\, Food\, Activities\, Silent Auction\, Demos\, and MORE. Proceeds will go to Firefighter family--mother has been diagnosed with IIH. 2nd annual event. Lots of free activities. Great family fun !!
LOCATION:Old Advance Fire Dept 169 Fire Station Rd Advance\, NC 27006
UID:e.2378.14110
SEQUENCE:3
DTSTAMP:20260421T142845Z
URL:https://business.daviechamber.com/events/details/advance-community-festival-14110
END:VEVENT

END:VCALENDAR
