BEGIN:VCALENDAR
VERSION:2.0
PRODID:-//ChamberMaster//Event Calendar 2.0//EN
METHOD:PUBLISH
X-PUBLISHED-TTL:P3D
REFRESH-INTERVAL:P3D
CALSCALE:GREGORIAN
BEGIN:VEVENT
DTSTART:20170624T140000Z
DTEND:20170624T180000Z
X-MICROSOFT-CDO-ALLDAYEVENT:FALSE
SUMMARY:Advance Family Festival
DESCRIPTION:Family Focused Event. AFD Smokehouse\, DC Sheriff's Dept\, Mocksville PD fingerprinting\, DC EMS\, DC Rescue Squad\, Bounce Houses\, Food\, Vendors\, Storytelling\, Exciting Demonstrations and more!! BBQ sandwich and hot dog lunch plates available
X-ALT-DESC;FMTTYPE=text/html:Family Focused Event. AFD Smokehouse\, DC Sheriff&#39\;s Dept\, Mocksville PD fingerprinting\, DC EMS\, DC Rescue Squad\, Bounce Houses\, Food\, Vendors\, Storytelling\, Exciting Demonstrations and more!! BBQ sandwich and hot dog lunch plates available
LOCATION:169 Fire Station Rd parking at Advance United Methodist Church
UID:e.2378.11885
SEQUENCE:3
DTSTAMP:20260422T055954Z
URL:https://business.daviechamber.com/events/details/advance-family-festival-11885
END:VEVENT

END:VCALENDAR
