BEGIN:VCALENDAR
VERSION:2.0
PRODID:-//ChamberMaster//Event Calendar 2.0//EN
METHOD:PUBLISH
X-PUBLISHED-TTL:P3D
REFRESH-INTERVAL:P3D
CALSCALE:GREGORIAN
BEGIN:VEVENT
DTSTART:20180406T100000Z
DTEND:20180406T230000Z
X-MICROSOFT-CDO-ALLDAYEVENT:FALSE
SUMMARY:Advance Fire Department Beef & Pork BBQ
DESCRIPTION:Come out to support the Advance Fire Department as they host their Beef and Pork BBQ on Friday\, April 6th! Event will run from 6am until sold out and there are many options to choose from. Chopped\, sliced\, sandwiches\, plates\, pounds. Eat-in or take out.
X-ALT-DESC;FMTTYPE=text/html:Come out to support the Advance Fire Department as they host their Beef and Pork BBQ on Friday\, April 6th! Event will run from 6am until sold out and there are many options to choose from. Chopped\, sliced\, sandwiches\, plates\, pounds. Eat-in or take out.
LOCATION:Advance Fire Department 1869 NC-801 Advance\, NC 27006
UID:e.2378.13931
SEQUENCE:3
DTSTAMP:20260421T153542Z
URL:https://business.daviechamber.com/events/details/advance-fire-department-beef-pork-bbq-13931
END:VEVENT

END:VCALENDAR
