BEGIN:VCALENDAR
VERSION:2.0
PRODID:-//ChamberMaster//Event Calendar 2.0//EN
METHOD:PUBLISH
X-PUBLISHED-TTL:P3D
REFRESH-INTERVAL:P3D
CALSCALE:GREGORIAN
BEGIN:VEVENT
DTSTART:20170407T100000Z
DTEND:20170407T100000Z
X-MICROSOFT-CDO-ALLDAYEVENT:FALSE
SUMMARY:Advance Fire Dept. Beef & Pork BBQ
DESCRIPTION:Beef & Pork BBQ\n\nChopped | Sliced | Sandwiches | Plates | Pounds\n\nEat-In or Take-Out\n\n\n\nSandwiches:\n\nChopped Pork    $4.00\n\nSliced Pork    $4.50\n\nChopped Beef    $4.50\n\n\n\nPlates (w/ BBQ\, slaw\, roll & fries):\n\nChopped Pork    $8.00\n\nSliced Pork    $9.00\n\nChopped Beef    $9.00\n\n\n\nOne Pound (w/ slaw & rolls):\n\nChopped Pork    $10.00\n\nSliced Pork    $11.00\n\nChopped Beef    $11.00\n\n\n\nMiscellaneous:\n\nFries    $2.00\n\nDesserts    $2.50
X-ALT-DESC;FMTTYPE=text/html:<div style="text-align: center\;">Beef &amp\; Pork BBQ<br />\nChopped | Sliced | Sandwiches | Plates | Pounds<br />\nEat-In or Take-Out<br />\n<br />\nSandwiches:<br />\nChopped Pork&nbsp\; &nbsp\; $4.00<br />\nSliced Pork&nbsp\; &nbsp\; $4.50<br />\nChopped Beef&nbsp\; &nbsp\; $4.50<br />\n<br />\nPlates (w/ BBQ\, slaw\, roll&nbsp\;&amp\; fries):<br />\nChopped Pork&nbsp\; &nbsp\; $8.00<br />\nSliced Pork&nbsp\; &nbsp\; $9.00<br />\nChopped Beef&nbsp\; &nbsp\; $9.00<br />\n<br />\nOne Pound (w/ slaw &amp\; rolls):<br />\nChopped Pork&nbsp\; &nbsp\; $10.00<br />\nSliced Pork&nbsp\; &nbsp\; $11.00<br />\nChopped Beef&nbsp\; &nbsp\; $11.00<br />\n<br />\nMiscellaneous:<br />\nFries&nbsp\; &nbsp\; $2.00<br />\nDesserts&nbsp\; &nbsp\; $2.50</div>\n
LOCATION:Advance Fire Station 12-1 1869 NC 801 S Advance\, NC 27006
UID:e.2378.11583
SEQUENCE:3
DTSTAMP:20260422T084849Z
URL:https://business.daviechamber.com/events/details/advance-fire-dept-beef-pork-bbq-11583
END:VEVENT

END:VCALENDAR
