BEGIN:VCALENDAR
VERSION:2.0
PRODID:-//ChamberMaster//Event Calendar 2.0//EN
METHOD:PUBLISH
X-PUBLISHED-TTL:P3D
REFRESH-INTERVAL:P3D
CALSCALE:GREGORIAN
BEGIN:VEVENT
DTSTART:20161112T140000Z
DTEND:20161112T210000Z
X-MICROSOFT-CDO-ALLDAYEVENT:FALSE
SUMMARY:Annual Craft Village
DESCRIPTION:The Davie Craft Association show features 50-plus local artisans and a bake shop offering homemade treats. A portion of the proceeds will benefit local charities.
X-ALT-DESC;FMTTYPE=text/html:The Davie Craft Association show features 50-plus local artisans and a bake shop offering homemade treats. A portion of the proceeds will benefit local charities.
LOCATION:The Brock Gymnasium 622 N Main St Mocksville\, NC 27028
UID:e.2378.10153
SEQUENCE:3
DTSTAMP:20260422T155846Z
URL:https://business.daviechamber.com/events/details/annual-craft-village-10153
END:VEVENT

END:VCALENDAR
