BEGIN:VCALENDAR
VERSION:2.0
PRODID:-//ChamberMaster//Event Calendar 2.0//EN
METHOD:PUBLISH
X-PUBLISHED-TTL:P3D
REFRESH-INTERVAL:P3D
CALSCALE:GREGORIAN
BEGIN:VEVENT
DTSTART:20160423T133000Z
DTEND:20160423T210000Z
X-MICROSOFT-CDO-ALLDAYEVENT:FALSE
SUMMARY:Annual Spring Book Sale - Friends of Davie Library
DESCRIPTION:Friends of Davie County Public Library Fundraiser/Book Sale: Saturday\, April 23\, 9:30 a.m. - 5 p.m. and Sunday\, April 24\, 12-4 p.m. at the library\, 371 N. Main St.\, Mocksville. Books and other items from 25 cents to $2. Details at www.friendsofdavielibrary.com or call 336-293-3477. Volunteers still needed for sales\, set up (Friday) and clean up (Sunday).
X-ALT-DESC;FMTTYPE=text/html:<br />\nFriends of Davie County Public Library Fundraiser/Book Sale: Saturday\, April 23\, 9:30 a.m. - 5 p.m. and Sunday\, April 24\, 12-4 p.m. at the library\, 371 N. Main St.\, Mocksville. Books and other items from 25 cents to $2. Details at www.friendsofdavielibrary.com or call 336-293-3477. Volunteers still needed for sales\, set up (Friday) and clean up (Sunday).
LOCATION:Davie County Public Library 371 N. Main St.\, Mocksville
UID:e.2378.5139
SEQUENCE:3
DTSTAMP:20260423T022931Z
URL:https://business.daviechamber.com/events/details/annual-spring-book-sale-friends-of-davie-library-04-23-2016-5139
END:VEVENT

END:VCALENDAR
