BEGIN:VCALENDAR
VERSION:2.0
PRODID:-//ChamberMaster//Event Calendar 2.0//EN
METHOD:PUBLISH
X-PUBLISHED-TTL:P3D
REFRESH-INTERVAL:P3D
CALSCALE:GREGORIAN
BEGIN:VEVENT
DTSTART:20250405T140000Z
DTEND:20250405T190000Z
X-MICROSOFT-CDO-ALLDAYEVENT:FALSE
SUMMARY:Annual Spring Festival | Koren Farms
DESCRIPTION:Don't miss out on our annual Spring Festival! Come stroll through all the magnificent vendors\, enjoy wonderful treats\,craft beer and visit with the Alpacas. Along with all the other things the farm has to offer! Free to visit!
X-ALT-DESC;FMTTYPE=text/html:<span style="font-size:18px\;"><span style="font-family:tahoma\;"><span style="color:#000000\;">Don&rsquo\;t miss out on our annual Spring Festival! Come stroll through all the magnificent vendors\, enjoy wonderful treats\,craft beer and visit with the Alpacas. Along with all the other things the farm has to offer! Free to visit!</span></span></span>
LOCATION:Koren Farms
UID:e.2378.25528
SEQUENCE:3
DTSTAMP:20260425T232748Z
URL:https://business.daviechamber.com/events/details/annual-spring-festival-koren-farms-25528
END:VEVENT

END:VCALENDAR
