BEGIN:VCALENDAR
VERSION:2.0
PRODID:-//ChamberMaster//Event Calendar 2.0//EN
METHOD:PUBLISH
X-PUBLISHED-TTL:P3D
REFRESH-INTERVAL:P3D
CALSCALE:GREGORIAN
BEGIN:VEVENT
DTSTART:20230525T223000Z
DTEND:20230526T013000Z
X-MICROSOFT-CDO-ALLDAYEVENT:FALSE
SUMMARY:Annual Summer Blast Off with Pushin’ Georgia
DESCRIPTION:Kick off Memorial Day weekend with a fun night of music\, food and drinks on the deck. Featuring Adam Smith with Pushin' Georgia. What better way to get your Summer started!!
X-ALT-DESC;FMTTYPE=text/html:<span style="font-size:16px\;"><span style="font-family:tahoma\;"><span style="color:#000000\;">Kick off Memorial Day weekend with a fun night of music\, food and drinks on the deck. Featuring Adam Smith with Pushin&rsquo\; Georgia. What better way to get your Summer started!!</span></span></span>
LOCATION:O'Callahans
UID:e.2378.22932
SEQUENCE:3
DTSTAMP:20260424T130016Z
URL:https://business.daviechamber.com/events/details/annual-summer-blast-off-with-pushin-georgia-22932
END:VEVENT

END:VCALENDAR
