BEGIN:VCALENDAR
VERSION:2.0
PRODID:-//ChamberMaster//Event Calendar 2.0//EN
METHOD:PUBLISH
X-PUBLISHED-TTL:P3D
REFRESH-INTERVAL:P3D
CALSCALE:GREGORIAN
BEGIN:VEVENT
DTSTART:20170923T153000Z
DTEND:20170923T230000Z
X-MICROSOFT-CDO-ALLDAYEVENT:FALSE
SUMMARY:Annual Zombie Parade & Monster Fest
DESCRIPTION:If you love Halloween\, Sept. 23rd is the date you need to save. Dress-up\, Come walk with us for a good cause.\n\nWe are bringing awareness to adults with special needs in our community..Milling Manor is a facility that provides housing and services to Davie and surrounding Counties. All monies collected will be provided to them.\n\nSo let's walk for them..The Parade is at 3:00 pm Sat. the 23rd.\n\nThe Monster Fest starts at 11:30am & will continue until 7:00pm.\n\nFood & Merchant Vendors\, Haunted trails and Houses represented\, Kids events\, Skits and surprises. Costume Contests\, drawings\, games\, music\, dancing and more..\n\nCome spend the day with us.\n\nHelp us fight for them....\n\nCall Sandy or Message me for more info..336-751-4292\, Beach'N Tans
X-ALT-DESC;FMTTYPE=text/html:<p style="margin: 0px 0px 6px\; display: block\; font-family: Helvetica\, Arial\, sans-serif\; color: rgb(29\, 33\, 41)\; font-size: 14px\; font-style: normal\; font-variant-ligatures: normal\; font-variant-caps: normal\; font-weight: normal\; letter-spacing: normal\; orphans: 2\; text-align: start\; text-indent: 0px\; text-transform: none\; white-space: normal\; widows: 2\; word-spacing: 0px\; -webkit-text-stroke-width: 0px\; background-color: rgb(255\, 255\, 255)\; text-decoration-style: initial\; text-decoration-color: initial\;">If you love Halloween\, Sept. 23rd is the date you need to save. Dress-up\, Come walk with us for a good cause.</p>\n\n<p style="margin: 0px 0px 6px\; display: block\; font-family: Helvetica\, Arial\, sans-serif\; color: rgb(29\, 33\, 41)\; font-size: 14px\; font-style: normal\; font-variant-ligatures: normal\; font-variant-caps: normal\; font-weight: normal\; letter-spacing: normal\; orphans: 2\; text-align: start\; text-indent: 0px\; text-transform: none\; white-space: normal\; widows: 2\; word-spacing: 0px\; -webkit-text-stroke-width: 0px\; background-color: rgb(255\, 255\, 255)\; text-decoration-style: initial\; text-decoration-color: initial\;">We are bringing awareness to adults with special needs in our community..Milling Manor is a facility that provides housing and services to Davie and surrounding Counties. All monies collected will be provided to them.</p>\n\n<p style="margin: 6px 0px\; display: block\; font-family: Helvetica\, Arial\, sans-serif\; color: rgb(29\, 33\, 41)\; font-size: 14px\; font-style: normal\; font-variant-ligatures: normal\; font-variant-caps: normal\; font-weight: normal\; letter-spacing: normal\; orphans: 2\; text-align: start\; text-indent: 0px\; text-transform: none\; white-space: normal\; widows: 2\; word-spacing: 0px\; -webkit-text-stroke-width: 0px\; background-color: rgb(255\, 255\, 255)\; text-decoration-style: initial\; text-decoration-color: initial\;">So let&#39\;s walk for them..The Parade is at 3:00 pm Sat. the 23rd.</p>\n\n<p style="margin: 6px 0px\; display: block\; font-family: Helvetica\, Arial\, sans-serif\; color: rgb(29\, 33\, 41)\; font-size: 14px\; font-style: normal\; font-variant-ligatures: normal\; font-variant-caps: normal\; font-weight: normal\; letter-spacing: normal\; orphans: 2\; text-align: start\; text-indent: 0px\; text-transform: none\; white-space: normal\; widows: 2\; word-spacing: 0px\; -webkit-text-stroke-width: 0px\; background-color: rgb(255\, 255\, 255)\; text-decoration-style: initial\; text-decoration-color: initial\;">The Monster Fest starts at 11:30am &amp\; will continue until 7:00pm.</p>\n\n<p style="margin: 6px 0px\; display: block\; font-family: Helvetica\, Arial\, sans-serif\; color: rgb(29\, 33\, 41)\; font-size: 14px\; font-style: normal\; font-variant-ligatures: normal\; font-variant-caps: normal\; font-weight: normal\; letter-spacing: normal\; orphans: 2\; text-align: start\; text-indent: 0px\; text-transform: none\; white-space: normal\; widows: 2\; word-spacing: 0px\; -webkit-text-stroke-width: 0px\; background-color: rgb(255\, 255\, 255)\; text-decoration-style: initial\; text-decoration-color: initial\;"><span class="text_exposed_show" style="display: inline\; font-family: inherit\;">Food &amp\; Merchant Vendors\, Haunted trails and Houses represented\, Kids events\, Skits and surprises. Costume Contests\, drawings\, games\, music\, dancing and more..</span></p>\n\n<p style="margin: 6px 0px\; display: block\; font-family: Helvetica\, Arial\, sans-serif\; color: rgb(29\, 33\, 41)\; font-size: 14px\; font-style: normal\; font-variant-ligatures: normal\; font-variant-caps: normal\; font-weight: normal\; letter-spacing: normal\; orphans: 2\; text-align: start\; text-indent: 0px\; text-transform: none\; white-space: normal\; widows: 2\; word-spacing: 0px\; -webkit-text-stroke-width: 0px\; background-color: rgb(255\, 255\, 255)\; text-decoration-style: initial\; text-decoration-color: initial\;"><span class="text_exposed_show" style="display: inline\; font-family: inherit\;">Come spend the day with us.<br />\nHelp us fight for them....</span></p>\n\n<p style="margin: 6px 0px\; display: block\; font-family: Helvetica\, Arial\, sans-serif\; color: rgb(29\, 33\, 41)\; font-size: 14px\; font-style: normal\; font-variant-ligatures: normal\; font-variant-caps: normal\; font-weight: normal\; letter-spacing: normal\; orphans: 2\; text-align: start\; text-indent: 0px\; text-transform: none\; white-space: normal\; widows: 2\; word-spacing: 0px\; -webkit-text-stroke-width: 0px\; background-color: rgb(255\, 255\, 255)\; text-decoration-style: initial\; text-decoration-color: initial\;"><span class="text_exposed_show" style="display: inline\; font-family: inherit\;">Call Sandy or Message me for more info..336-751-4292\, Beach&#39\;N Tans</span></p>\n
LOCATION:Beach N Tans
UID:e.2378.12005
SEQUENCE:3
DTSTAMP:20260422T013045Z
URL:https://business.daviechamber.com/events/details/annual-zombie-parade-monster-fest-12005
END:VEVENT

END:VCALENDAR
