BEGIN:VCALENDAR
VERSION:2.0
PRODID:-//ChamberMaster//Event Calendar 2.0//EN
METHOD:PUBLISH
X-PUBLISHED-TTL:P3D
REFRESH-INTERVAL:P3D
CALSCALE:GREGORIAN
BEGIN:VEVENT
DTSTART:20170310T130000Z
DTEND:20170310T170000Z
X-MICROSOFT-CDO-ALLDAYEVENT:FALSE
SUMMARY:Apprenticeship Summit
DESCRIPTION:Davidson County Community College:\n\nApprenticeship Summit\n\n\n\nFriday\, March 10 from 8:00 am to 12:00 pm in the Rittling Conference Center.
X-ALT-DESC;FMTTYPE=text/html:Davidson County Community College:<br />\nApprenticeship Summit<br />\n<br />\nFriday\, March 10 from 8:00 am to 12:00 pm in the Rittling Conference Center.
LOCATION:Davidson County Community College Rittling Conference Center 297 DCCC Road Thomasville\, NC 27360-9502
UID:e.2378.11239
SEQUENCE:3
DTSTAMP:20260421T102835Z
URL:https://business.daviechamber.com/events/details/apprenticeship-summit-11239
END:VEVENT

END:VCALENDAR
