BEGIN:VCALENDAR
VERSION:2.0
PRODID:-//ChamberMaster//Event Calendar 2.0//EN
METHOD:PUBLISH
X-PUBLISHED-TTL:P3D
REFRESH-INTERVAL:P3D
CALSCALE:GREGORIAN
BEGIN:VEVENT
DTSTART:20250422T153000Z
DTEND:20250422T170000Z
X-MICROSOFT-CDO-ALLDAYEVENT:FALSE
SUMMARY:April Chamber Monthly Meeting
DESCRIPTION:Join us for our April Chamber Monthly Meeting featuring Clint Junker of Big Flannel Coaching speaking on the topic of "Know Yourself to Lead Yourself: Unlocking Your Leadership Voice"\n\n\n\nGreat leaders don't just lead others they first learn to lead themselves.\n\nJoin us for a practical and engaging session where you'll discover how self-awareness can transform your leadership. In just 20 minutes\, you'll be introduced to two powerful tools:\n\n  Know Yourself to Lead Yourself   Learn how your natural tendencies shape your leadership.\n\n  The Five Voices   Identify your leadership voice and understand how others experience you.\n\nYou'll walk away with immediate insights you can apply in your business and leadership\, plus access to a free Five Voices assessment to go deeper.\n\nDon't miss this chance to gain clarity on your leadership style and take your influence to the next level!\n\n\n\nLunch is $15. There is no charge if you are not having lunch but registration is still required.\n\n\n\nSPONSORSHIP INFORMATION\n\n\n\nThis is an open networking event @ WinMock at Kinderton specifically for our chamber members to provide them with multiple opportunities to meet and develop relationships with fellow business owners in our community.\n\n\n\nGuests are permitted to attend up to two networking meetings before joining the Chamber.
X-ALT-DESC;FMTTYPE=text/html:<span style="font-size:18px\;"><span style="font-family:tahoma\;"><span style="color:#000000\;">Join us for our April Chamber Monthly Meeting featuring Clint Junker of Big Flannel Coaching speaking on the topic of<strong> &ldquo\;Know Yourself to Lead Yourself: Unlocking Your Leadership Voice&rdquo\;</strong><br />\n<br />\n<strong>Great leaders don&rsquo\;t just lead others&mdash\;they first learn to lead themselves.</strong><br />\nJoin us for a&nbsp\;<strong>practical and engaging session</strong>&nbsp\;where you&rsquo\;ll discover how self-awareness can transform your leadership. In just 20 minutes\, you&rsquo\;ll be introduced to two powerful tools:<br />\n&#9989\;&nbsp\;<strong>Know Yourself to Lead Yourself</strong>&nbsp\;&ndash\; Learn how your natural tendencies shape your leadership.<br />\n&#9989\;&nbsp\;<strong>The Five Voices</strong>&nbsp\;&ndash\; Identify your leadership voice and understand how others experience you.<br />\nYou&rsquo\;ll walk away with&nbsp\;<strong>immediate insights</strong>&nbsp\;you can apply in your business and leadership\, plus access to a&nbsp\;<strong>free Five Voices assessment</strong>&nbsp\;to go deeper.<br />\n<strong>Don&rsquo\;t miss this chance to gain clarity on your leadership style and take your influence to the next level!</strong></span><br />\n<br />\n<em><span style="color:#008000\;"><strong>Lunch is $15. There is no charge if you are not having lunch but registration is still required.</strong></span></em><br />\n<br />\n<strong><u><a href="https://chambermaster.blob.core.windows.net/userfiles/UserFiles/chambers/2378/File/MonthlyMeetingSponsor.pdf"><span style="color:#008000\;">SPONSORSHIP INFORMATION</span></a></u></strong><br />\n<br />\n<span style="color:#000000\;">This is an open networking event @ WinMock at Kinderton specifically for our chamber members to provide them with multiple opportunities to meet and develop relationships with fellow business owners in our community.<br />\n<br />\nGuests are permitted to attend up to two networking meetings before joining the Chamber.</span></span></span>\n<p style="box-sizing: border-box\; margin: 5px 0px\; padding: 0px\; list-style-type: none\; line-height: 15px\; font-family: Arial\, &quot\;Helvetica Neue&quot\;\, Helvetica\, sans-serif\; font-size: 11px\; color: rgb(68\, 68\, 68)\;">&nbsp\;</p>\n
LOCATION:WinMock at Kinderton
UID:e.2378.13864
SEQUENCE:3
DTSTAMP:20260426T034757Z
URL:https://business.daviechamber.com/events/details/april-chamber-monthly-meeting-04-22-2025-13864
END:VEVENT

END:VCALENDAR
