BEGIN:VCALENDAR
VERSION:2.0
PRODID:-//ChamberMaster//Event Calendar 2.0//EN
METHOD:PUBLISH
X-PUBLISHED-TTL:P3D
REFRESH-INTERVAL:P3D
CALSCALE:GREGORIAN
BEGIN:VEVENT
DTSTART:20251016T220000Z
DTEND:20251017T000000Z
X-MICROSOFT-CDO-ALLDAYEVENT:FALSE
SUMMARY:Art Show & Sale
DESCRIPTION:Senior Services is hosting a Senior Art Sale on Thursday\, Oct 16. They have many talented artists here in Davie County and we will showcasing their work! We will have many pieces available for sale! (cash only)\n\n \n\nThe program is from 6-8pm at Davie County Senior Services Main Campus (278 Meroney Street\, Mocksville\, NC).\n\n \n\nPlease help us spread the word! A portion of all sales will come back to Davie County Senior Services to support our programs!
X-ALT-DESC;FMTTYPE=text/html:Senior Services is hosting a Senior Art Sale on Thursday\, Oct 16. They have many talented artists here in Davie County and we will showcasing their work! We will have many pieces available for sale! (cash only)<br />\n&nbsp\;<br />\nThe program is from 6-8pm at Davie County Senior Services Main Campus (278 Meroney Street\, Mocksville\, NC).<br />\n&nbsp\;<br />\nPlease help us spread the word! A portion of all sales will come back to Davie County Senior Services to support our programs!<br />\n&nbsp\;
LOCATION:
UID:e.2378.28962
SEQUENCE:3
DTSTAMP:20260419T132608Z
URL:https://business.daviechamber.com/events/details/art-show-sale-28962
END:VEVENT

END:VCALENDAR
