BEGIN:VCALENDAR
VERSION:2.0
PRODID:-//ChamberMaster//Event Calendar 2.0//EN
METHOD:PUBLISH
X-PUBLISHED-TTL:P3D
REFRESH-INTERVAL:P3D
CALSCALE:GREGORIAN
BEGIN:VEVENT
DTSTART:20180616T140000Z
DTEND:20180616T150000Z
X-MICROSOFT-CDO-ALLDAYEVENT:FALSE
SUMMARY:Audition Notice
DESCRIPTION:The Davie County Arts Council announces auditions for its next Brock Players' production: FARCE OF HABIT\, an absurdly funny\, Southern-Fried romp with outrageous characters that takes place one weekend at the Reel "Em Inn\, "the finest little fishing lodge in the Ozarks". there are parts for 5 Women and 4 Men\, aged 30+. Callbacks will be on the same day and continued on Sunday\, if necessary. No prior theatre experience is needed. A fundraising dinner/theatre will take place on Friday\, October 26 @ 6PM. Performance dates at BPAC are: Thursday November 1\, Saturdays October 27 & November 3 @ 7PM\; Sundays October 28 & November 4 @ 3PM.
X-ALT-DESC;FMTTYPE=text/html:The Davie County Arts Council announces auditions for its next Brock Players&#39\; production: FARCE OF HABIT\, an absurdly funny\, Southern-Fried romp with outrageous characters that takes place one weekend at the Reel &quot\;Em Inn\, &quot\;the finest little fishing lodge in the Ozarks&quot\;. there are parts for 5 Women and 4 Men\, aged 30+. Callbacks will be on the same day and continued on Sunday\, if necessary. No prior theatre experience is needed. A fundraising dinner/theatre will take place on Friday\, October 26 @ 6PM. Performance dates at BPAC are: Thursday November 1\, Saturdays October 27 &amp\; November 3 @ 7PM\; Sundays October 28 &amp\; November 4 @ 3PM.
LOCATION:Brock Performing Arts Center Theatre 622 N. Main St\, Mocksville
UID:e.2378.14033
SEQUENCE:3
DTSTAMP:20260421T130627Z
URL:https://business.daviechamber.com/events/details/audition-notice-14033
END:VEVENT

END:VCALENDAR
