BEGIN:VCALENDAR
VERSION:2.0
PRODID:-//ChamberMaster//Event Calendar 2.0//EN
METHOD:PUBLISH
X-PUBLISHED-TTL:P3D
REFRESH-INTERVAL:P3D
CALSCALE:GREGORIAN
BEGIN:VEVENT
DTSTART:20230822T153000Z
DTEND:20230822T170000Z
X-MICROSOFT-CDO-ALLDAYEVENT:FALSE
SUMMARY:August Chamber Monthly Meeting
DESCRIPTION:We're thrilled to announce that the incredible Erika Taylor will be joining us as a guest speaker at our Monthly Meeting. Her expertise and insights are sure to leave you inspired and motivated to take your business to new heights!\n\nTopic TBD.
X-ALT-DESC;FMTTYPE=text/html:<p style="margin: 0px\; padding: 0px\; color: rgb(96\, 109\, 120)\; font-family: Helvetica\, Arial\, sans-serif\; font-size: 16px\;"><span style="font-size:18px\;"><span style="font-family:tahoma\;"><span style="color:#333333\;">We&#39\;re thrilled to announce that the incredible Erika Taylor will be joining us as a guest speaker at our Monthly Meeting. Her expertise and insights are sure to leave you inspired and motivated to take your business to new heights!</span></span></span></p>\n\n<p style="margin: 0px\; padding: 0px\; color: rgb(96\, 109\, 120)\; font-family: Helvetica\, Arial\, sans-serif\; font-size: 16px\;"><span style="font-size:18px\;"><span style="font-family:tahoma\;"><span style="color:#333333\;">Topic TBD.</span></span></span></p>\n
LOCATION:Bermuda Run Country Club
UID:e.2378.23193
SEQUENCE:3
DTSTAMP:20260425T201608Z
URL:https://business.daviechamber.com/events/details/august-chamber-monthly-meeting-23193
END:VEVENT

END:VCALENDAR
