BEGIN:VCALENDAR
VERSION:2.0
PRODID:-//ChamberMaster//Event Calendar 2.0//EN
METHOD:PUBLISH
X-PUBLISHED-TTL:P3D
REFRESH-INTERVAL:P3D
CALSCALE:GREGORIAN
BEGIN:VEVENT
DTSTART:20151030T225000Z
DTEND:20151031T010000Z
X-MICROSOFT-CDO-ALLDAYEVENT:FALSE
SUMMARY:Aviation Ground School at Sugar Valley
DESCRIPTION:This course is for aspiring pilots\, established pilots who'd like to refresh their knowledge\, and folks who'd just like to know more about flying and aviation operations. This is a 12-week course of two-hour classes taught by an advanced ground instructor.
X-ALT-DESC;FMTTYPE=text/html:This course is for aspiring pilots\, established pilots who&#39\;d like to refresh their knowledge\, and folks who&#39\;d just like to know more about flying and aviation operations. This is a 12-week course of two-hour classes taught by an advanced ground instructor.
LOCATION:Sugar Valley Airport 249 Gilbert Rd\, Mocksville\, NC 27028
UID:e.2378.4102
SEQUENCE:3
DTSTAMP:20260422T072540Z
URL:https://business.daviechamber.com/events/details/aviation-ground-school-at-sugar-valley-10-30-2015-4102
END:VEVENT

END:VCALENDAR
