BEGIN:VCALENDAR
VERSION:2.0
PRODID:-//ChamberMaster//Event Calendar 2.0//EN
METHOD:PUBLISH
X-PUBLISHED-TTL:P3D
REFRESH-INTERVAL:P3D
CALSCALE:GREGORIAN
BEGIN:VEVENT
DTSTART:20150815T160000Z
DTEND:20150815T200000Z
X-MICROSOFT-CDO-ALLDAYEVENT:FALSE
SUMMARY:Back 2 School Empowerment Day
DESCRIPTION:Our mission is to "Advance and Advocate the common good for ALL Davie County Students\, specifically targeting those living below the poverty guidelines. To provide a platform to communicate information that will empower\, inspire\, motivate and equip our students to Get Ready\, Get Set\, and Succeed in the upcoming school year. We will be giving out book bags filled with school supplies to Davie County children in need.
X-ALT-DESC;FMTTYPE=text/html:Our mission is to &quot\;Advance and Advocate the common good for ALL Davie County Students\, specifically targeting those living below the poverty guidelines. To provide a platform to communicate information that will empower\, inspire\, motivate and equip our students to Get Ready\, Get Set\, and Succeed in the upcoming school year. We will be giving out book bags filled with school supplies to Davie County children in need.
LOCATION:Davie High School Gym 1200 Salisbury Street
UID:e.2378.908
SEQUENCE:3
DTSTAMP:20260422T101946Z
URL:https://business.daviechamber.com/events/details/back-2-school-empowerment-day-08-15-2015-908
END:VEVENT

END:VCALENDAR
