BEGIN:VCALENDAR
VERSION:2.0
PRODID:-//ChamberMaster//Event Calendar 2.0//EN
METHOD:PUBLISH
X-PUBLISHED-TTL:P3D
REFRESH-INTERVAL:P3D
CALSCALE:GREGORIAN
BEGIN:VEVENT
DTSTART:20230817T220000Z
DTEND:20230818T000000Z
X-MICROSOFT-CDO-ALLDAYEVENT:FALSE
SUMMARY:Back to School Block Party | Teacher Discount
DESCRIPTION:Earn 10% OFF your entire purchase with a donation of #2 pencil packs for Empower Davie (they are full-filling the needs of over 200 Davie County Students)!\n\nALL teachers with a valid Teacher ID earn 20% OFF during this event!\n\nBring your friends and enjoy a Back to School Trail mix bar and extra shopping hours
X-ALT-DESC;FMTTYPE=text/html:<span style="color: rgb(5\, 5\, 5)\; font-family: &quot\;Segoe UI Historic&quot\;\, &quot\;Segoe UI&quot\;\, Helvetica\, Arial\, sans-serif\; font-size: 15px\;">Earn 10% OFF your entire purchase with a donation of #2 pencil packs for Empower Davie (they are full-filling the needs of over 200 Davie County Students)!</span><br style="color: rgb(5\, 5\, 5)\; font-family: &quot\;Segoe UI Historic&quot\;\, &quot\;Segoe UI&quot\;\, Helvetica\, Arial\, sans-serif\; font-size: 15px\;" />\n<span style="color: rgb(5\, 5\, 5)\; font-family: &quot\;Segoe UI Historic&quot\;\, &quot\;Segoe UI&quot\;\, Helvetica\, Arial\, sans-serif\; font-size: 15px\;">ALL teachers with a valid Teacher ID earn 20% OFF during this event!</span><br style="color: rgb(5\, 5\, 5)\; font-family: &quot\;Segoe UI Historic&quot\;\, &quot\;Segoe UI&quot\;\, Helvetica\, Arial\, sans-serif\; font-size: 15px\;" />\n<span style="color: rgb(5\, 5\, 5)\; font-family: &quot\;Segoe UI Historic&quot\;\, &quot\;Segoe UI&quot\;\, Helvetica\, Arial\, sans-serif\; font-size: 15px\;">Bring your friends and enjoy a Back to School Trail mix bar and extra shopping hours</span>
LOCATION:Southern Ties Boutique
UID:e.2378.23170
SEQUENCE:3
DTSTAMP:20260425T201730Z
URL:https://business.daviechamber.com/events/details/back-to-school-block-party-teacher-discount-23170
END:VEVENT

END:VCALENDAR
